BEGIN:VCALENDAR
VERSION:2.0
PRODID:-//ChamberMaster//Event Calendar 2.0//EN
METHOD:PUBLISH
X-PUBLISHED-TTL:P3D
REFRESH-INTERVAL:P3D
CALSCALE:GREGORIAN
BEGIN:VEVENT
DTSTART:20210927T040000Z
DTEND:20210927T050000Z
X-MICROSOFT-CDO-ALLDAYEVENT:FALSE
SUMMARY:Creative Economy Task Group Meeting
DESCRIPTION:Calling all members from the Creative Economy!\n\n\n\nThe creative economy - spanning film & media\, design & architecture\, fashion\, software\, research & development and much more - is one of the defining characteristics of our modern economy.\n\n\n\nPlease join us for an initial working group meeting to explore the formation of a new AMCHAM Committee to focus on topics affecting creative businesses.\n\n\n\nAfter a quick round of introductions\, Moon Nguyet Phillips\, Director of Public Policy - Southeast Asia for Netflix\, will launch the discussion with a quick overview of what other AMCHAMs in the region are doing\, as well as existing Thai Government frameworks to promote this key sector.\n\n\n\nWe welcome input from all participants about what activity they'd like to see from a Creative Economy committee and will close the meeting with a call for interested leaders to take any proposed initiatives forward.
X-ALT-DESC;FMTTYPE=text/html:Calling all members from the Creative Economy!<br />\n<br />\nThe creative economy - spanning film &amp\; media\, design &amp\; architecture\, fashion\, software\, research &amp\; development and much more - is one of the defining characteristics of our modern economy.<br />\n<br />\nPlease join us for an initial working group meeting to explore the formation of a new AMCHAM Committee to focus on topics affecting creative businesses.<br />\n<br />\nAfter a quick round of introductions\, Moon Nguyet Phillips\, Director of Public Policy - Southeast Asia for Netflix\, will launch the discussion with a quick overview of what other AMCHAMs in the region are doing\, as well as existing Thai Government frameworks to promote this key sector.<br />\n<br />\nWe welcome input from all participants about what activity they&#39\;d like to see from a Creative Economy committee and will close the meeting with a call for interested leaders to take any proposed initiatives forward.
LOCATION:Online Video Conference
UID:e.3314.1991
SEQUENCE:3
DTSTAMP:20260421T155559Z
URL:http://www.connect.amchamthailand.com/events/details/creative-economy-task-group-meeting-1991
END:VEVENT

END:VCALENDAR
