BEGIN:VCALENDAR
VERSION:2.0
PRODID:-//ChamberMaster//Event Calendar 2.0//EN
METHOD:PUBLISH
X-PUBLISHED-TTL:P3D
REFRESH-INTERVAL:P3D
CALSCALE:GREGORIAN
BEGIN:VEVENT
DTSTART:20190131T050000Z
DTEND:20190131T063000Z
X-MICROSOFT-CDO-ALLDAYEVENT:FALSE
SUMMARY:CSR Committee: ACE Award in Review
DESCRIPTION:Please join the CSR Committee for a presentation and discussion on ways to avoid common mistakes in the ACE application\, a review of what judges are looking for\, and how you can improve the task of highlighting your company's CSR work. Companies that did not receive ACE designation and companies considering applying for 2019 are strongly encouraged to join this informative session.
X-ALT-DESC;FMTTYPE=text/html:<p>Please join the CSR Committee for a presentation and discussion on ways to avoid common mistakes in the ACE application\, a review of what judges are looking for\, and how you can improve the task of highlighting your company&#39\;s CSR work. Companies that did not receive ACE designation and companies considering applying for 2019 are strongly encouraged to join this informative session.&nbsp\;</p>\n
LOCATION:AMCHAM Office\, Citi Boardroom Nearest BTS: Ploenchit
UID:e.3314.106
SEQUENCE:3
DTSTAMP:20260424T000707Z
URL:http://www.connect.amchamthailand.com/events/details/csr-committee-ace-award-in-review-106
END:VEVENT

END:VCALENDAR
