BEGIN:VCALENDAR
VERSION:2.0
PRODID:-//ChamberMaster//Event Calendar 2.0//EN
METHOD:PUBLISH
X-PUBLISHED-TTL:P3D
REFRESH-INTERVAL:P3D
CALSCALE:GREGORIAN
BEGIN:VEVENT
DTSTART:20220317T070000Z
DTEND:20220317T080000Z
X-MICROSOFT-CDO-ALLDAYEVENT:FALSE
SUMMARY:CSR Committee: CSR in Review
DESCRIPTION:Please join the CSR Committee for a presentation and discussion on ways to avoid common mistakes in the AMCHAM CSR Excellence Award application\, a review of what judges are looking for\, and how you can achieve the task of highlighting your company's CSR work. Companies that did not receive the AMCHAM CSR Excellence Award recognition in 2021 and companies considering applying in 2022 for this status are strongly encouraged to join this informative session.
X-ALT-DESC;FMTTYPE=text/html:Please join the CSR Committee for a presentation and discussion on ways to avoid common mistakes in the AMCHAM CSR Excellence Award application\, a review of what judges are looking for\, and how you can achieve the task of highlighting your company&#39\;s CSR work. Companies that did not receive the AMCHAM CSR Excellence Award recognition in 2021 and companies considering applying in 2022 for this status are strongly encouraged to join this informative session.
LOCATION:Video conference
UID:e.3314.2163
SEQUENCE:3
DTSTAMP:20260421T032914Z
URL:http://www.connect.amchamthailand.com/events/details/csr-committee-csr-in-review-2163
END:VEVENT

END:VCALENDAR
