BEGIN:VCALENDAR
VERSION:2.0
PRODID:-//ChamberMaster//Event Calendar 2.0//EN
METHOD:PUBLISH
X-PUBLISHED-TTL:P3D
REFRESH-INTERVAL:P3D
CALSCALE:GREGORIAN
BEGIN:VEVENT
DTSTART:20191003T050000Z
DTEND:20191003T063000Z
X-MICROSOFT-CDO-ALLDAYEVENT:FALSE
SUMMARY:CSR Committee: Promoting Wellness Literacy
DESCRIPTION:The October CSR Committee meeting showcases an example of CSR excellence from ACE Award Gold status member Pfizer.\n\n\n\nPfizer (Thailand) Limited is dedicated to providing Thai people with access to research and development by bringing in innovative pharmaceutical products\, vaccines and medical supplies\, with the aim of preventing and curing disease as well as prolonging and enhancing quality of life.\n\n\n\nPfizer Thailand Foundation (PTF) complements this core purpose through a broader variety of projects emphasizing overall wellness literacy\, so Thai people\, in particular those in disadvantaged circumstances\, can take better advantage of these opportunities. By providing integrated support - resources\, personnel\, and expertise - PTF targets three fundamental pillars: education\, heath & wellness\, and quality of life.\n\n \n\nAbout the Speakers\n\nAmara Chunplang (Nacky) is the Corporate and Public Affairs Lead for Pfizer Thailand. Pfizer is one of the largest biopharmaceutical companies and situated in Thailand since over 60 years. Pfizer has been providing innovative\, high quality and effective treatment medicines to multi-million patients in key disease areas included oncology\, anti-infectious and cardiovascular and metabolic diseases as well as vaccine for prevention. Amara is also a Trustee & Secretary for Pfizer Thailand Foundation.\n\n \n\nSasipa Jirasuktaveekul (Eve) is an Assistant CSR Manager of Pfizer Thailand Foundation\, an independently run philanthropic organization initiated since 2001 supported by Pfizer Thailand and affiliated with Pfizer Inc. USA. The Foundation's focus is to work with partners for educational support and capacity building towards a healthier society with better quality of life.
X-ALT-DESC;FMTTYPE=text/html:The&nbsp\;October CSR Committee meeting showcases an example of CSR excellence from ACE Award Gold status member Pfizer.<br />\n<br />\nPfizer (Thailand) Limited is dedicated to providing&nbsp\;Thai people with access to research and development by bringing in innovative pharmaceutical products\, vaccines and medical supplies\, with the aim of preventing and curing&nbsp\;disease as well as prolonging and enhancing&nbsp\;quality of life.<br />\n<br />\nPfizer Thailand Foundation (PTF) complements this core purpose through a broader variety of projects emphasizing overall wellness literacy\, so Thai people\, in particular those in disadvantaged circumstances\, can take better advantage of these opportunities. By providing integrated support - resources\, personnel\, and expertise - PTF targets three fundamental pillars: education\, heath &amp\; wellness\, and quality of life.<br />\n&nbsp\;<br />\n<u><strong>About the Speakers</strong></u><br />\n<strong><em>Amara Chunplang (Nacky)</em></strong> is the Corporate and Public Affairs Lead for Pfizer Thailand. Pfizer is one of the largest biopharmaceutical companies and situated in Thailand since over 60 years. Pfizer has been providing innovative\, high quality and effective treatment medicines to multi-million patients in key disease areas included oncology\, anti-infectious and cardiovascular and metabolic diseases as well as vaccine for prevention. Amara is also a Trustee &amp\; Secretary for Pfizer Thailand Foundation.<br />\n&nbsp\;<br />\n<em><strong>Sasipa Jirasuktaveekul (Eve)</strong></em> is an Assistant CSR Manager of Pfizer Thailand Foundation\, an independently run philanthropic organization initiated since 2001 supported by Pfizer Thailand and affiliated with Pfizer Inc. USA. The Foundation&#39\;s focus is to work with partners for educational support and capacity building towards a healthier society with better quality of life.
LOCATION:AMCHAM Office\, Citi Boardroom Nearest BTS: Ploenchit
UID:e.3314.367
SEQUENCE:3
DTSTAMP:20260423T105427Z
URL:http://www.connect.amchamthailand.com/events/details/csr-committee-promoting-wellness-literacy-367
END:VEVENT

END:VCALENDAR
