BEGIN:VCALENDAR
VERSION:2.0
PRODID:-//ChamberMaster//Event Calendar 2.0//EN
METHOD:PUBLISH
X-PUBLISHED-TTL:P3D
REFRESH-INTERVAL:P3D
CALSCALE:GREGORIAN
BEGIN:VEVENT
DTSTART:20200317T050000Z
DTEND:20200317T063000Z
X-MICROSOFT-CDO-ALLDAYEVENT:FALSE
SUMMARY:CSR Webinar: ACE Awards in Review
DESCRIPTION:Please join the CSR Committee for a presentation and discussion on ways to avoid common mistakes in the AMCHAM CSR Excellence (ACE) application\, a review of what judges are looking for\, and how you can achieve the task of highlighting your company's CSR work. Companies that did not receive ACE designation and companies considering applying in 2020 for this status are strongly encouraged to join this informative session.
X-ALT-DESC;FMTTYPE=text/html:<p>Please join the CSR Committee for a presentation and discussion on ways to avoid common mistakes in the AMCHAM CSR Excellence (ACE) application\, a review of what judges are looking for\, and how you can achieve&nbsp\;the task of highlighting your company&#39\;s CSR work. Companies that did not receive ACE designation and companies considering applying in&nbsp\;2020 for this status&nbsp\;are strongly encouraged to join this informative session.&nbsp\;</p>\n
LOCATION:This event will be offered as a webinar. All AMCHAM members interested in joining should contact Kittie to receive a link to join.
UID:e.3314.1532
SEQUENCE:3
DTSTAMP:20260423T020323Z
URL:http://www.connect.amchamthailand.com/events/details/csr-webinar-ace-awards-in-review-1532
END:VEVENT

END:VCALENDAR
