BEGIN:VCALENDAR
VERSION:2.0
PRODID:-//ChamberMaster//Event Calendar 2.0//EN
METHOD:PUBLISH
X-PUBLISHED-TTL:P3D
REFRESH-INTERVAL:P3D
CALSCALE:GREGORIAN
BEGIN:VEVENT
DTSTART:20231114T020000Z
DTEND:20231114T030000Z
X-MICROSOFT-CDO-ALLDAYEVENT:FALSE
SUMMARY:Customs & Excise Council: November 2023 Video Conference
DESCRIPTION:The Customs & Excise Council will convene virtually on November 14. The meeting agenda will be updated closer to the event.\n\n \n\nAll AMCHAM members are welcome to attend the Customs & Excise Council meetings to stay abreast of the policy priorities that AMCHAM advocates for on behalf of members. Advance registration is necessary.\n\n\n\nTo continue to receive updates on our meetings and activities\, or to request to join the Council\, please contact tong@amchamthailand.com
X-ALT-DESC;FMTTYPE=text/html:The Customs &amp\; Excise Council will convene virtually on November 14. The meeting agenda will be updated&nbsp\;closer to the event.<br color:="" font-size:="" open="" />\n&nbsp\;<br color:="" font-size:="" open="" />\nAll AMCHAM members are welcome to attend the Customs &amp\; Excise Council meetings to stay abreast of the policy priorities that AMCHAM advocates for on behalf of members. Advance registration is necessary.<br color:="" font-size:="" open="" />\n<br color:="" font-size:="" open="" />\nTo continue to receive updates on our meetings and activities\, or to request to join the Council\, please contact tong@amchamthailand.com
LOCATION:Video conference
UID:e.3314.2428
SEQUENCE:3
DTSTAMP:20260419T151454Z
URL:http://www.connect.amchamthailand.com/events/details/customs-amp-excise-council-november-2023-video-conference-2428
END:VEVENT

END:VCALENDAR
