BEGIN:VCALENDAR
VERSION:2.0
PRODID:-//ChamberMaster//Event Calendar 2.0//EN
METHOD:PUBLISH
X-PUBLISHED-TTL:P3D
REFRESH-INTERVAL:P3D
CALSCALE:GREGORIAN
BEGIN:VEVENT
DTSTART:20200428T040000Z
DTEND:20200428T053000Z
X-MICROSOFT-CDO-ALLDAYEVENT:FALSE
SUMMARY:Customs & Excise Council: April 2020 Video Conference
DESCRIPTION:AMCHAM's Customs & Excise Council's April 2020 meeting will be virtual and will focus on Covid -19 issues. In preparation\, the Council would like to hear from members about any concerns they may have. The Council will be collecting comments and making representation to the authorities on measures that would help alleviate problems companies are facing at the moment. For example\, it might be difficult to meet a reporting deadline or the time limit to export goods. The more specific the issues\, the more likely the Council will get a favorable response.These are some of the categories that issues might fall into:\n\n\n\n- Customs import / export clearance\n\n- Free Zone\n\n- BOI customs issues\n\n- Import licensing\n\n- Import or export origin\n\n- Excise\n\n \n\nPlease submit your comments to Kittie@amchamthailand.com by April 24 at 3 pm to allow consolidation prior to the committee meeting scheduled on April 28. \n\n\n\nRegister for this meeting to discuss these issues which affect many AMCHAM companies and help us to determine workable solutions.
X-ALT-DESC;FMTTYPE=text/html:<p>AMCHAM&#39\;s Customs &amp\; Excise Council&#39\;s April 2020 meeting will be virtual and will focus on Covid -19 issues. In preparation\, the Council would&nbsp\;like to hear from members about any concerns they&nbsp\;may have. The Council&nbsp\;will be collecting comments and making representation&nbsp\;to the authorities on measures that would help alleviate problems companies are facing at the moment. For example\, it might be difficult to meet a reporting deadline or the time limit to export goods. The more specific the issues\, the more likely the Council will get a favorable&nbsp\;response.These are some of the categories that issues might fall into:<br />\n<br />\n- Customs import / export clearance<br />\n- Free Zone<br />\n- BOI customs issues<br />\n- Import licensing<br />\n- Import or export origin<br />\n- Excise<br />\n&nbsp\;<br />\nPlease submit your comments to <a>Kittie@amchamthailand.com</a> by April 24 at 3 pm to allow consolidation prior to the committee meeting scheduled on April 28.&nbsp\;<br />\n<br />\nRegister for this meeting to discuss these issues which affect many AMCHAM companies and help us to determine workable solutions.</p>\n
LOCATION:Online Video Conference
UID:e.3314.1594
SEQUENCE:3
DTSTAMP:20260422T221057Z
URL:http://www.connect.amchamthailand.com/events/details/customs-excise-council-april-2020-video-conference-1594
END:VEVENT

END:VCALENDAR
