BEGIN:VCALENDAR
VERSION:2.0
PRODID:-//ChamberMaster//Event Calendar 2.0//EN
METHOD:PUBLISH
X-PUBLISHED-TTL:P3D
REFRESH-INTERVAL:P3D
CALSCALE:GREGORIAN
BEGIN:VEVENT
DTSTART:20190213T020000Z
DTEND:20190213T033000Z
X-MICROSOFT-CDO-ALLDAYEVENT:FALSE
SUMMARY:Customs & Excise Council: February 2019 Meeting
DESCRIPTION:The Customs & Excise Council will convene to discuss the Committee Plans for 2019 as per the following topics:\n\nI. Advocacy\n\n\n	\n	Key priority issues.\n	\n\n\n        For discussion in meeting: Customs Free Zone Notification amendments regarding TAI and Form D\;  Customs Notification amendment on Stay payment.\n\n\n	\n	Improving cooperation with Customs and Excise Departments.\n	\n\n\nII. Information Sharing\n\n\n	\n	Encouraging broader contributions from members.\n	\n\n\nIII. Learnings\n\n\n	\n	Quarterly briefings by customs industry experts (fast moving goods\, auto\, courier\, e-commerce).\n	\n	\n	Organization of seminars  (CLMV Connectivity\, Legal Appeals).\n	\n\n\nRegister for this meeting to discuss these issues which affect many AMCHAM companies and help us to determine workable solutions.
X-ALT-DESC;FMTTYPE=text/html:<p>The Customs &amp\; Excise Council will convene to discuss&nbsp\;the Committee Plans for 2019 as per the following topics:</p>\n\n<p>I. Advocacy</p>\n\n<ul>\n	<li>\n	<p>Key priority issues.</p>\n	</li>\n</ul>\n\n<p>&nbsp\;&nbsp\;&nbsp\;&nbsp\;&nbsp\;&nbsp\;&nbsp\;&nbsp\;For discussion in meeting: Customs Free Zone Notification amendments regarding TAI and Form D\; &nbsp\;Customs Notification amendment on Stay payment.</p>\n\n<ul>\n	<li>\n	<p>Improving cooperation with Customs and Excise Departments.</p>\n	</li>\n</ul>\n\n<p>II. Information Sharing</p>\n\n<ul>\n	<li>\n	<p>Encouraging broader contributions from members.</p>\n	</li>\n</ul>\n\n<p>III. Learnings</p>\n\n<ul>\n	<li>\n	<p>Quarterly briefings by customs industry experts (fast moving goods\, auto\, courier\, e-commerce).</p>\n	</li>\n	<li>\n	<p>Organization of seminars &nbsp\;(CLMV Connectivity\, Legal Appeals).</p>\n	</li>\n</ul>\n\n<p>Register for this meeting to discuss these issues which affect many AMCHAM companies and help us to determine workable solutions.</p>\n
LOCATION:AMCHAM Office\, Citi Boardroom BTS: Ploenchit
UID:e.3314.216
SEQUENCE:3
DTSTAMP:20260423T221721Z
URL:http://www.connect.amchamthailand.com/events/details/customs-excise-council-february-2019-meeting-216
END:VEVENT

END:VCALENDAR
