BEGIN:VCALENDAR
VERSION:2.0
PRODID:-//ChamberMaster//Event Calendar 2.0//EN
METHOD:PUBLISH
X-PUBLISHED-TTL:P3D
REFRESH-INTERVAL:P3D
CALSCALE:GREGORIAN
BEGIN:VEVENT
DTSTART:20220215T020000Z
DTEND:20220215T030000Z
X-MICROSOFT-CDO-ALLDAYEVENT:FALSE
SUMMARY:Customs & Excise Council: February 2022 Video Conference
DESCRIPTION:The Customs & Excise Council will convene virtually on February 15 with the following agenda:\n\n	Update on Customs issues   New regulation update\, Harmonized System code\, Customs Alliance\, VAT penalty\, and data requisition.\n	Update on the progress of 2022 Harmonized System code seminar to members.\n	Update on excise tax issues   Potential pension fund contribution resulting in higher excise rate\, the blockchain adoption in excise refund and annual license renewal process.\n	Update on the excise tax advocacy with the auto council.\n\nAll AMCHAM members are welcome to attend the Customs & Excise Council meetings to stay abreast of the policy priorities that AMCHAM advocates for on behalf of members. Advance registration is necessary.\n\n\n\nTo continue to receive updates on our meetings and activities\, or to request to join the Council\, please contact kittie@amchamthailand.com.
X-ALT-DESC;FMTTYPE=text/html:The Customs &amp\; Excise Council will convene virtually on February 15 with the following agenda:\n<ul>\n	<li>Update on Customs issues &ndash\; New regulation update\, Harmonized System&nbsp\;code\, Customs Alliance\, VAT penalty\, and data requisition.</li>\n	<li>Update on the progress of 2022 Harmonized System code seminar to members.</li>\n	<li>Update on excise tax issues &ndash\; Potential pension fund contribution resulting in higher excise rate\, the blockchain adoption in excise refund and annual license renewal process.</li>\n	<li>Update on the excise tax advocacy with the auto council.</li>\n</ul>\nAll AMCHAM members are welcome to attend the Customs &amp\; Excise Council meetings to stay abreast of the policy priorities that AMCHAM advocates for on behalf of members. Advance registration is necessary.<br color:="" font-size:="" open="" />\n<br color:="" font-size:="" open="" />\nTo continue to receive updates on our meetings and activities\, or to request to join the Council\, please contact&nbsp\;<a 0.3s="" all="" aria-label="Link kittie@amchamthailand.com" color:="" ease-in-out="" font-size:="" href="mailto:kittie@amchamthailand.com" open="" overflow-wrap:="" rel="noopener noreferrer" tabindex="-1" target="_blank" text-decoration-line:="" title="mailto:kittie@amchamthailand.com" transition:="">kittie@amchamthailand.com</a>.
LOCATION:Video conference
UID:e.3314.2099
SEQUENCE:3
DTSTAMP:20260421T051654Z
URL:http://www.connect.amchamthailand.com/events/details/customs-excise-council-february-2022-video-conference-2099
END:VEVENT

END:VCALENDAR
