BEGIN:VCALENDAR
VERSION:2.0
PRODID:-//ChamberMaster//Event Calendar 2.0//EN
METHOD:PUBLISH
X-PUBLISHED-TTL:P3D
REFRESH-INTERVAL:P3D
CALSCALE:GREGORIAN
BEGIN:VEVENT
DTSTART:20200219T020000Z
DTEND:20200219T033000Z
X-MICROSOFT-CDO-ALLDAYEVENT:FALSE
SUMMARY:Customs & Excise Council: February Meeting
DESCRIPTION:The Customs & Excise Council will convene to discuss the following topics:\n\n \n\nAdvocacy\n\n	Advocacy for the following topics\;\n\n\n\n	Comments on the current Rewards system for AMCHAM position paper.\n	Comments on the Customs Free Zone sequential requirement on local content for AMCHAM position paper.\n\n\n\n	Quarterly meeting with Director-General of the Customs Department\n	Quarterly meeting with Director-General of the Excise Department\n\n\n \n\nPreparation for future activities\n\nLearning: Quarterly Briefing \n\nQ1: Trade Control on Weapon of Mass Destruction law\n\nSpeaker: Ministry of Commerce and AMCHAM Customs and Auto Council\n\n \n\nQ2: Digitization of Customs\n\nSpeaker: Customs Department\n\n \n\nQ2: Luxury Auto Tax\n\nSpeaker: Excise Department and AMCHAM Customs and Auto Council\n\n \n\nQ3: Customs process in Cambodia\, Myanmar and Laos\n\nSpeaker: Representative from MNC\n\n \n\nQ4: RCEP Customs duty and FTAs including Non-Tariff Barriers (NTB)\n\nSpeaker: Ministry of Commerce\n\n \n\nOthers \n\nNext meeting date and agenda.\n\n \n\nRegister for this meeting to discuss these issues which affect many AMCHAM companies and help us to determine workable solutions.
X-ALT-DESC;FMTTYPE=text/html:The Customs &amp\; Excise Council will convene to discuss the following topics:<br />\n&nbsp\;<br />\n<u><strong><em>Advocacy</em></strong></u>\n<ul>\n	<li>Advocacy for the following topics\;</li>\n</ul>\n\n<ol style="margin-left: 40px\;">\n	<li>Comments on the current Rewards system for AMCHAM position paper.</li>\n	<li>Comments on the Customs Free Zone sequential requirement on local content for AMCHAM position paper.</li>\n</ol>\n\n<ul>\n	<li>Quarterly meeting with Director-General of the Customs Department</li>\n	<li>Quarterly meeting with Director-General of the Excise Department</li>\n</ul>\n\n<p>&nbsp\;<br />\n<u><em><strong>Preparation for future activities<br />\nLearning: Quarterly Briefing </strong></em></u></p>\n\n<p style="margin-left: 40px\;">Q1: Trade Control on Weapon of Mass Destruction law<br />\nSpeaker: Ministry of Commerce and AMCHAM Customs and Auto Council<br />\n&nbsp\;<br />\nQ2: Digitization of Customs<br />\nSpeaker:&nbsp\;Customs Department<br />\n&nbsp\;<br />\nQ2: Luxury Auto Tax<br />\nSpeaker:&nbsp\;Excise Department and AMCHAM Customs and Auto Council<br />\n&nbsp\;<br />\nQ3: Customs process in Cambodia\, Myanmar and Laos<br />\nSpeaker: Representative from MNC<br />\n&nbsp\;<br />\nQ4:&nbsp\;RCEP Customs duty and FTAs including Non-Tariff Barriers (NTB)<br />\nSpeaker:&nbsp\;Ministry of Commerce</p>\n\n<p>&nbsp\;<br />\n<u><em><strong>Others </strong></em></u></p>\n\n<p style="margin-left: 40px\;">Next meeting date and agenda.</p>\n\n<p>&nbsp\;</p>\n\n<p>Register for this meeting to discuss these issues which affect many AMCHAM companies and help us to determine workable solutions.</p>\n
LOCATION:AMCHAM Office\, Citi Boardroom BTS: Ploenchit
UID:e.3314.1516
SEQUENCE:3
DTSTAMP:20260423T021020Z
URL:http://www.connect.amchamthailand.com/events/details/customs-excise-council-february-meeting-1516
END:VEVENT

END:VCALENDAR
