BEGIN:VCALENDAR
VERSION:2.0
PRODID:-//ChamberMaster//Event Calendar 2.0//EN
METHOD:PUBLISH
X-PUBLISHED-TTL:P3D
REFRESH-INTERVAL:P3D
CALSCALE:GREGORIAN
BEGIN:VEVENT
DTSTART:20210122T030000Z
DTEND:20210122T040000Z
X-MICROSOFT-CDO-ALLDAYEVENT:FALSE
SUMMARY:Customs & Excise Council: January 2021 Video Conference
DESCRIPTION:The Customs & Excise Council's January 2021 meeting will be virtual with the following agenda:\n\n\n	Plan of action for 2021\n	Preparation for the meeting with Director Generals of Customs and Excise Departments\n	Status of studies/review on rates and new products covered by the excise tax and the implementation timeline.\n	Possible amendment to the Customs law\, as a result of the public hearing last year.\n	Enforcement of Electric waste and Department of Industrial Works (DIW) requirement.\n	Status of the proposed Export Control law   what will happen next and when?\n	Status and target effective date of the proposed Tax Coupon to change from hard copy to "electronic".\n	Follow up on the electronic submission of documents with digital signatures\, especially during Covid-19 situation.\n	Status of the Customs Alliance and how AMCHAM can help.\n	The New Normal Customs way of working.\n	Other matters.\n\n\nRegister for this meeting to discuss these issues which affect many AMCHAM companies and help us to determine workable solutions.
X-ALT-DESC;FMTTYPE=text/html:<p background-color:="" color:="" font-size:="" line-height:="" margin-bottom:="" margin-top:="" open="">The Customs &amp\; Excise Council&#39\;s January 2021 meeting will be virtual with the following agenda:</p>\n\n<ul 0px="" 1rem="" background-color:="" color:="" font-size:="" list-style-image:="" list-style-position:="" margin:="" open="" outline:="">\n	<li>Plan of action for 2021</li>\n	<li>Preparation for the meeting with Director Generals of Customs and Excise Departments</li>\n	<li>Status of studies/review on rates and new products covered by the excise tax and the implementation timeline.</li>\n	<li>Possible amendment to the Customs law\, as a result of the public hearing last year.</li>\n	<li>Enforcement of Electric waste and Department of Industrial Works (DIW) requirement.</li>\n	<li>Status of the proposed Export Control law &ndash\; what will happen next and when?</li>\n	<li>Status and target effective date of the proposed Tax Coupon to change from hard copy to &ldquo\;electronic&rdquo\;.</li>\n	<li>Follow up on the electronic submission of documents with digital signatures\, especially during Covid-19 situation.</li>\n	<li>Status of the Customs Alliance and how AMCHAM can help.</li>\n	<li>The New Normal Customs way of working.</li>\n	<li>Other matters.</li>\n</ul>\n\n<p background-color:="" color:="" font-size:="" line-height:="" margin-bottom:="" margin-top:="" open="">Register for this meeting to discuss these issues which affect many AMCHAM companies and help us to determine workable solutions.</p>\n
LOCATION:Video conference.
UID:e.3314.1827
SEQUENCE:3
DTSTAMP:20260422T060544Z
URL:http://www.connect.amchamthailand.com/events/details/customs-excise-council-january-2021-video-conference-1827
END:VEVENT

END:VCALENDAR
