BEGIN:VCALENDAR
VERSION:2.0
PRODID:-//ChamberMaster//Event Calendar 2.0//EN
METHOD:PUBLISH
X-PUBLISHED-TTL:P3D
REFRESH-INTERVAL:P3D
CALSCALE:GREGORIAN
BEGIN:VEVENT
DTSTART:20220118T020000Z
DTEND:20220118T030000Z
X-MICROSOFT-CDO-ALLDAYEVENT:FALSE
SUMMARY:Customs & Excise Council: January 2022 Video Conference
DESCRIPTION:The Customs & Excise Council will convene virtually on January 18 with the following agenda:\n\n	Summary the response letter from Customs Department   HS code\, CA\, VAT penalty\, data requisition\, export control and RCEP.\n	Update Excise tax on electric vehicle and battery policy\, excise tax on salty snack and food initiative.\n\n All AMCHAM members are welcome to attend the Customs & Excise Council meetings to stay abreast of the policy priorities that AMCHAM advocates for on behalf of members. Advance registration is necessary.\n\n\n\nTo continue to receive updates on our meetings and activities\, or to request to join the Council\, please contact kittie@amchamthailand.com.
X-ALT-DESC;FMTTYPE=text/html:The Customs &amp\; Excise Council will convene virtually on January 18&nbsp\;with the following agenda:\n<ol>\n	<li>Summary the response letter from Customs Department &ndash\; HS code\, CA\, VAT penalty\, data requisition\, export control and RCEP.</li>\n	<li>Update Excise tax on electric vehicle and battery policy\, excise tax on salty snack and food initiative.</li>\n</ol>\n&nbsp\;All AMCHAM members are welcome to attend the Customs &amp\; Excise Council meetings to stay abreast of the policy priorities that AMCHAM advocates for on behalf of members. Advance registration is necessary.<br color:="" font-size:="" open="" />\n<br color:="" font-size:="" open="" />\nTo continue to receive updates on our meetings and activities\, or to request to join the Council\, please contact&nbsp\;<a 0.3s="" all="" aria-label="Link kittie@amchamthailand.com" color:="" ease-in-out="" font-size:="" href="mailto:kittie@amchamthailand.com" open="" overflow-wrap:="" rel="noopener noreferrer" tabindex="-1" target="_blank" text-decoration-line:="" title="mailto:kittie@amchamthailand.com" transition:="">kittie@amchamthailand.com</a>.
LOCATION:Video conference
UID:e.3314.2095
SEQUENCE:3
DTSTAMP:20260421T070454Z
URL:http://www.connect.amchamthailand.com/events/details/customs-excise-council-january-2022-video-conference-2095
END:VEVENT

END:VCALENDAR
