BEGIN:VCALENDAR
VERSION:2.0
PRODID:-//ChamberMaster//Event Calendar 2.0//EN
METHOD:PUBLISH
X-PUBLISHED-TTL:P3D
REFRESH-INTERVAL:P3D
CALSCALE:GREGORIAN
BEGIN:VEVENT
DTSTART:20200716T020000Z
DTEND:20200716T030000Z
X-MICROSOFT-CDO-ALLDAYEVENT:FALSE
SUMMARY:Customs & Excise Council: July 2020 Video Conference
DESCRIPTION:Customs & Excise Council's July 2020 meeting will be virtual with the following agenda:\n\n\n	Council  letters on COVID-19 related support measures: BOG action\, schedule of meetings with DGs.\n	Anti-Dumping investigation by US government on tire imports.\n	FTAs Thailand and ASEAN - members are encouraged to share information on status of FTAs under negotiation / study / recently ratified.\n	Update on trade control on Weapons of Mass Destruction (TCWMD) Implementation.\n	Other issues.\n\n\nRegister for this meeting to discuss these issues which affect many AMCHAM companies and help us to determine workable solutions.
X-ALT-DESC;FMTTYPE=text/html:<p>Customs &amp\; Excise Council&#39\;s July 2020 meeting will be virtual with the following agenda:</p>\n\n<ul>\n	<li>Council&nbsp\; letters on COVID-19 related support measures: BOG action\, schedule of meetings with DGs.</li>\n	<li>Anti-Dumping investigation by US government on tire imports.</li>\n	<li>FTAs Thailand and ASEAN - members are encouraged to share information on status of FTAs under negotiation / study / recently ratified.</li>\n	<li>Update on trade control on Weapons of Mass Destruction (TCWMD) Implementation.</li>\n	<li>Other issues.</li>\n</ul>\n\n<p>Register for this meeting to discuss these issues which affect many AMCHAM companies and help us to determine workable solutions.</p>\n
LOCATION:Video conference
UID:e.3314.1634
SEQUENCE:3
DTSTAMP:20260422T162939Z
URL:http://www.connect.amchamthailand.com/events/details/customs-excise-council-july-2020-video-conference-1634
END:VEVENT

END:VCALENDAR
