BEGIN:VCALENDAR
VERSION:2.0
PRODID:-//ChamberMaster//Event Calendar 2.0//EN
METHOD:PUBLISH
X-PUBLISHED-TTL:P3D
REFRESH-INTERVAL:P3D
CALSCALE:GREGORIAN
BEGIN:VEVENT
DTSTART:20210602T020000Z
DTEND:20210602T030000Z
X-MICROSOFT-CDO-ALLDAYEVENT:FALSE
SUMMARY:Customs & Excise Council: June 2021 Videoconference
DESCRIPTION:The Customs & Excise Council will convene virtually on June 2 with the following agenda:\n\n	Update on meeting with the Director General of Excise Department\n	Update on Thailand Consortium on Trade of Weapons of Mass Destruction (TCWMD) program\n	Update on the new cabinet resolution on reduction of duty surcharge\n	AMCHAM Customs & Excise Strategic plan during Covid-19 and year 2021 \n\nAll AMCHAM members are welcome to attend the Customs & Excise Council meetings to stay abreast of the policy priorities that AMCHAM advocates for on behalf of members. Advance registration is necessary\, as we do not accept walk-ins or non-member guests for these meetings.\n\n\n\nTo continue to receive updates on our meetings and activities\, or to request to join the Council\, please contact kittie@amchamthailand.com.
X-ALT-DESC;FMTTYPE=text/html:The Customs &amp\; Excise Council will convene virtually on June 2 with the following agenda:\n<ul>\n	<li>Update on meeting with the Director General of Excise Department</li>\n	<li>Update on Thailand Consortium on Trade of Weapons of Mass Destruction (TCWMD) program</li>\n	<li>Update on the new cabinet resolution on reduction of duty surcharge</li>\n	<li>AMCHAM Customs &amp\; Excise Strategic plan during Covid-19&nbsp\;and year 2021&nbsp\;</li>\n</ul>\nAll AMCHAM members are welcome to attend the Customs &amp\; Excise Council meetings to stay abreast of the policy priorities that AMCHAM advocates for on behalf of members. Advance registration is necessary\, as we do not accept walk-ins or non-member guests for these meetings.<br />\n<br />\nTo continue to receive updates on our meetings and activities\, or to request to join the Council\, please contact&nbsp\;<a href="mailto:kittie@amchamthailand.com">kittie@amchamthailand.com</a>.
LOCATION:Videoconference
UID:e.3314.1924
SEQUENCE:3
DTSTAMP:20260421T211801Z
URL:http://www.connect.amchamthailand.com/events/details/customs-excise-council-june-2021-videoconference-1924
END:VEVENT

END:VCALENDAR
