BEGIN:VCALENDAR
VERSION:2.0
PRODID:-//ChamberMaster//Event Calendar 2.0//EN
METHOD:PUBLISH
X-PUBLISHED-TTL:P3D
REFRESH-INTERVAL:P3D
CALSCALE:GREGORIAN
BEGIN:VEVENT
DTSTART:20220315T020000Z
DTEND:20220315T030000Z
X-MICROSOFT-CDO-ALLDAYEVENT:FALSE
SUMMARY:Customs & Excise Council: March 2022 Video Conference
DESCRIPTION:The Customs & Excise Council will convene virtually on March 15. The meeting agenda will be updated.\n\n \n\nAll AMCHAM members are welcome to attend the Customs & Excise Council meetings to stay abreast of the policy priorities that AMCHAM advocates for on behalf of members. Advance registration is necessary.\n\n\n\nTo continue to receive updates on our meetings and activities\, or to request to join the Council\, please contact kittie@amchamthailand.com.
X-ALT-DESC;FMTTYPE=text/html:The Customs &amp\; Excise Council will convene virtually on March 15. The meeting agenda will be updated.<br color:="" font-size:="" open="" />\n&nbsp\;<br color:="" font-size:="" open="" />\nAll AMCHAM members are welcome to attend the Customs &amp\; Excise Council meetings to stay abreast of the policy priorities that AMCHAM advocates for on behalf of members. Advance registration is necessary.<br color:="" font-size:="" open="" />\n<br color:="" font-size:="" open="" />\nTo continue to receive updates on our meetings and activities\, or to request to join the Council\, please contact&nbsp\;<a 0.3s="" all="" aria-label="Link kittie@amchamthailand.com" color:="" ease-in-out="" font-size:="" href="mailto:kittie@amchamthailand.com" open="" overflow-wrap:="" rel="noopener noreferrer" tabindex="-1" target="_blank" text-decoration-line:="" title="mailto:kittie@amchamthailand.com" transition:="">kittie@amchamthailand.com</a>.
LOCATION:Video conference
UID:e.3314.2109
SEQUENCE:3
DTSTAMP:20260421T051608Z
URL:http://www.connect.amchamthailand.com/events/details/customs-excise-council-march-2022-video-conference-2109
END:VEVENT

END:VCALENDAR
