BEGIN:VCALENDAR
VERSION:2.0
PRODID:-//ChamberMaster//Event Calendar 2.0//EN
METHOD:PUBLISH
X-PUBLISHED-TTL:P3D
REFRESH-INTERVAL:P3D
CALSCALE:GREGORIAN
BEGIN:VEVENT
DTSTART:20230314T020000Z
DTEND:20230314T030000Z
X-MICROSOFT-CDO-ALLDAYEVENT:FALSE
SUMMARY:Customs & Excise Council: March 2023 Video Conference
DESCRIPTION:The Customs & Excise Council will convene virtually on March 14. \n\n\n\nAgenda: \n\n\n\n1.  Update on the draft letter of illicit goods \n\n\n\n2.  Update on the survey of Internal Compliance Program (ICP) training course by the Department of Foreign Trade.\n\n\n\n3. Draft agenda of annual meeting with Customs Department \n\n\n\n4. Draft agenda of annual meeting with Excise Department\n\n\n\n5. Customs regulatory update\n\n\n\n6. Next Customs and Excise Council Meeting: April 2023 Video Conference\n\n    April 18\, 2023\, at 9.00   10.00 AM\n\n\n\n7. Walk-in items\n\n \n\nAll AMCHAM members are welcome to attend the Customs & Excise Council meetings to stay abreast of the policy priorities that AMCHAM advocates for on behalf of members. Advance registration is necessary.\n\n\n\nTo continue to receive updates on our meetings and activities\, or to request to join the Council\, please contact tong@amchamthailand.com
X-ALT-DESC;FMTTYPE=text/html:The Customs &amp\; Excise Council will convene virtually on March 14.&nbsp\;<br />\n<br />\nAgenda:&nbsp\;<br />\n<br />\n1.&nbsp\; Update on the draft letter of illicit goods&nbsp\;<br />\n<br />\n2.&nbsp\; Update on the survey of Internal Compliance Program (ICP) training course by the Department of Foreign Trade.<br />\n<br />\n3. Draft agenda of annual meeting with Customs Department&nbsp\;<br />\n<br />\n4. Draft agenda of annual meeting with Excise Department<br />\n<br />\n5. Customs regulatory update<br />\n<br />\n6. Next Customs and Excise Council Meeting: April 2023 Video Conference<br />\n&nbsp\; &nbsp\; April 18\, 2023\, at 9.00 &ndash\; 10.00 AM<br />\n<br />\n7. Walk-in items<br color:="" font-size:="" open="" />\n&nbsp\;<br color:="" font-size:="" open="" />\nAll AMCHAM members are welcome to attend the Customs &amp\; Excise Council meetings to stay abreast of the policy priorities that AMCHAM advocates for on behalf of members. Advance registration is necessary.<br color:="" font-size:="" open="" />\n<br color:="" font-size:="" open="" />\nTo continue to receive updates on our meetings and activities\, or to request to join the Council\, please contact tong@amchamthailand.com
LOCATION:Video conference
UID:e.3314.2421
SEQUENCE:3
DTSTAMP:20260420T051754Z
URL:http://www.connect.amchamthailand.com/events/details/customs-excise-council-march-2023-video-conference-2421
END:VEVENT

END:VCALENDAR
