BEGIN:VCALENDAR
VERSION:2.0
PRODID:-//ChamberMaster//Event Calendar 2.0//EN
METHOD:PUBLISH
X-PUBLISHED-TTL:P3D
REFRESH-INTERVAL:P3D
CALSCALE:GREGORIAN
BEGIN:VEVENT
DTSTART:20200312T020000Z
DTEND:20200312T033000Z
X-MICROSOFT-CDO-ALLDAYEVENT:FALSE
SUMMARY:Customs & Excise Council: March Meeting
DESCRIPTION:The Customs & Excise Council will convene to discuss the following topics:\n\n\n\nAdvocacy\n\n1. Advocacy Papers for the following topics             \n\n       Follow up on the papers to be sent out to Customs:\n\n           - Comments on the current law on Reward system.\n\n           - Customs Free Zone local content on sequential requirement\n\n \n\n       New topics:\n\n           - Excise collecting tax on export of petroleum oil and lubricant.\n\n \n\n2. Meeting with the Excise Department on 31 March 2020\n\n           - List of topics to be discussed.\n\n           - List of attendants.\n\n \n\n3. Preparation for the meeting with Director-General of the Customs Department\n\n           - List of topics to be discussed.\n\n           - List of attendees.\n\n \n\nLearning: Quarterly Briefing\n\n    To update on the progress of the following seminars:r\n\n        - Q1: Trade Control on Weapon of Mass Destruction law\n\n                    - Speaker: Ministry of Commerce and AMCHAM Customs Auto Council\n\n \n\n        - Q2: Digitization of Customs\n\n                    - Speaker: Customs Department\n\n \n\n               : Luxury Auto tax\n\n                     - Speaker: Excise and AMCHAM Customs Auto Council\n\n \n\n        - Q3: Customs process in Cambodia\, Myanmar and Laos\n\n                     - Speaker: representative from MNC\n\n \n\n        - Q4: RCEP Customs duty and FTAs including Non-Tariff Barrier\n\n                     - Speaker: Ministry of Commerce\n\n \n\nOthers\n\n      - Next meeting date and agenda.\n\n \n\nRegister for this meeting to discuss these issues which affect many AMCHAM companies and help us to determine workable solutions.
X-ALT-DESC;FMTTYPE=text/html:<div>The Customs &amp\; Excise Council will convene to discuss the following topics:<br />\n<br />\n<u><strong>Advocacy</strong></u><br />\n1.&nbsp\;Advocacy Papers for the following topics&nbsp\; &nbsp\; &nbsp\; &nbsp\; &nbsp\; &nbsp\; &nbsp\;<br />\n&nbsp\; &nbsp\; &nbsp\; &nbsp\;Follow up on the papers to be sent out to Customs:<br />\n&nbsp\; &nbsp\; &nbsp\; &nbsp\; &nbsp\; &nbsp\;- Comments on the current law on Reward system.<br />\n&nbsp\; &nbsp\; &nbsp\; &nbsp\; &nbsp\; &nbsp\;- Customs Free Zone local content on sequential requirement<br />\n&nbsp\;<br />\n&nbsp\; &nbsp\; &nbsp\; &nbsp\;New topics:<br />\n&nbsp\; &nbsp\; &nbsp\; &nbsp\; &nbsp\; &nbsp\;- Excise collecting tax on export of petroleum oil and lubricant.<br />\n&nbsp\;<br />\n2. Meeting with the Excise Department on 31 March 2020<br />\n&nbsp\; &nbsp\; &nbsp\; &nbsp\; &nbsp\; &nbsp\;- List of topics to be discussed.<br />\n&nbsp\; &nbsp\; &nbsp\; &nbsp\; &nbsp\; &nbsp\;- List of attendants.<br />\n&nbsp\;<br />\n3. Preparation for the meeting with Director-General of the Customs Department<br />\n&nbsp\; &nbsp\; &nbsp\; &nbsp\; &nbsp\; &nbsp\;- List of topics to be discussed.<br />\n&nbsp\; &nbsp\; &nbsp\; &nbsp\; &nbsp\; &nbsp\;- List of attendees.<br />\n&nbsp\;<br />\n<u><strong>Learning: Quarterly Briefing</strong></u><br />\n&nbsp\;&nbsp\;&nbsp\;&nbsp\;To update on the progress of the following seminars:r<br />\n&nbsp\; &nbsp\; &nbsp\; &nbsp\; - Q1: Trade Control on Weapon of Mass Destruction&nbsp\;law<br />\n&nbsp\; &nbsp\; &nbsp\; &nbsp\; &nbsp\; &nbsp\; &nbsp\; &nbsp\; &nbsp\; &nbsp\; - Speaker: Ministry of Commerce and AMCHAM Customs Auto Council<br />\n&nbsp\;<br />\n&nbsp\; &nbsp\; &nbsp\; &nbsp\; - Q2: Digitization of Customs<br />\n&nbsp\; &nbsp\; &nbsp\; &nbsp\; &nbsp\; &nbsp\; &nbsp\; &nbsp\; &nbsp\; &nbsp\; - Speaker:&nbsp\;Customs Department<br />\n&nbsp\;<br />\n&nbsp\; &nbsp\; &nbsp\; &nbsp\; &nbsp\; &nbsp\; &nbsp\; &nbsp\;: Luxury Auto tax<br />\n&nbsp\; &nbsp\; &nbsp\; &nbsp\; &nbsp\; &nbsp\; &nbsp\; &nbsp\; &nbsp\; &nbsp\; &nbsp\;- Speaker: Excise and AMCHAM Customs Auto Council<br />\n&nbsp\;<br />\n&nbsp\; &nbsp\; &nbsp\; &nbsp\; - Q3: Customs process in Cambodia\, Myanmar and Laos<br />\n&nbsp\; &nbsp\; &nbsp\; &nbsp\; &nbsp\; &nbsp\; &nbsp\; &nbsp\; &nbsp\; &nbsp\; &nbsp\;- Speaker: representative from MNC<br />\n&nbsp\;<br />\n&nbsp\; &nbsp\; &nbsp\;&nbsp\;&nbsp\; - Q4: RCEP Customs duty and FTAs including Non-Tariff Barrier<br />\n&nbsp\; &nbsp\; &nbsp\; &nbsp\; &nbsp\; &nbsp\; &nbsp\; &nbsp\; &nbsp\; &nbsp\; &nbsp\;- Speaker: Ministry of Commerce<br />\n&nbsp\;<br />\n<u><strong>Others</strong></u><br />\n&nbsp\; &nbsp\; &nbsp\; - Next meeting date and agenda.<br />\n&nbsp\;<br />\nRegister for this meeting to discuss these issues which affect many AMCHAM companies and help us to determine workable solutions.</div>\n
LOCATION:AMCHAM Office\, Citi Boardroom BTS: Ploenchit
UID:e.3314.1541
SEQUENCE:3
DTSTAMP:20260423T020847Z
URL:http://www.connect.amchamthailand.com/events/details/customs-excise-council-march-meeting-1541
END:VEVENT

END:VCALENDAR
