BEGIN:VCALENDAR
VERSION:2.0
PRODID:-//ChamberMaster//Event Calendar 2.0//EN
METHOD:PUBLISH
X-PUBLISHED-TTL:P3D
REFRESH-INTERVAL:P3D
CALSCALE:GREGORIAN
BEGIN:VEVENT
DTSTART:20230518T020000Z
DTEND:20230518T030000Z
X-MICROSOFT-CDO-ALLDAYEVENT:FALSE
SUMMARY:Customs & Excise Council: May 2023 Video Conference
DESCRIPTION:The Customs & Excise Council will convene virtually on May 18. The meeting agenda of May are: \n \n\n1. Updates on the council related items:\n\n  a. Illicit Goods Paper\n\n  b. Customs and Excise Dept tentative meeting   Recommend following up after the new cabinet is in charge during Jun-Jul 23.\n\n2. Excise regulatory update\n\n  a. Progress of illicit goods implementation for cigarette\n\n3. Share the key issues from US Custom and Border Protection (CBP) meeting on March 16.\n\n  - Wind trade compliance\n\n  - Green trade strategy\n\n  - For US importer\, more information collection along the supply-chain\, insist of compliance \n\n4. Customs regulatory update\n\n5. Progress of Transfer Pricing adjustment connection with Tax Committee\n\n6. Walk-in items\n\n7. Next Customs and Excise Council Meeting: June 2023 Video Conference - June 13\, 2023\, at 9.00   10.00 AM.\n\n\n All AMCHAM members are welcome to attend the Customs & Excise Council meetings to stay abreast of the policy priorities that AMCHAM advocates for on behalf of members. Advance registration is necessary.\n\n\n\nTo continue to receive updates on our meetings and activities\, or to request to join the Council\, please contact tong@amchamthailand.com
X-ALT-DESC;FMTTYPE=text/html:The Customs &amp\; Excise Council will convene virtually on May 18. The meeting agenda of May are:&nbsp\;\n<div>&nbsp\;</div>\n\n<div><strong>1.<span style="white-space:pre"> </span>Updates on the council related items:</strong></div>\n\n<div>&nbsp\; a.<span style="white-space:pre"> </span>Illicit Goods Paper</div>\n\n<div>&nbsp\; b.<span style="white-space:pre"> </span>Customs and Excise Dept tentative meeting &ndash\; Recommend following up after the new cabinet is in charge during Jun-Jul 23.</div>\n\n<div><strong>2.<span style="white-space:pre"> </span>Excise regulatory update</strong></div>\n\n<div>&nbsp\; a.<span style="white-space:pre"> </span>Progress of illicit goods implementation for cigarette</div>\n\n<div><strong>3.<span style="white-space:pre"> </span>Share the key issues from US Custom and Border Protection (CBP) meeting on March 16.</strong></div>\n\n<div>&nbsp\; -<span style="white-space:pre"> </span>Wind trade compliance</div>\n\n<div>&nbsp\; -<span style="white-space:pre"> </span>Green trade strategy</div>\n\n<div>&nbsp\; -<span style="white-space:pre"> </span>For US importer\, more information collection along the supply-chain\, insist of compliance&nbsp\;</div>\n\n<div><strong>4.<span style="white-space:pre"> </span>Customs regulatory update</strong></div>\n\n<div><strong>5.<span style="white-space:pre"> </span>Progress of Transfer Pricing adjustment connection with Tax Committee</strong></div>\n\n<div><strong>6.<span style="white-space:pre"> </span>Walk-in items</strong></div>\n\n<div><strong>7.<span style="white-space:pre"> </span>Next Customs and Excise Council Meeting: June 2023 Video Conference - June 13\, 2023\, at 9.00 &ndash\; 10.00 AM.</strong></div>\n<br color:="" font-size:="" open="" />\n&nbsp\;All AMCHAM members are welcome to attend the Customs &amp\; Excise Council meetings to stay abreast of the policy priorities that AMCHAM advocates for on behalf of members. Advance registration is necessary.<br color:="" font-size:="" open="" />\n<br color:="" font-size:="" open="" />\nTo continue to receive updates on our meetings and activities\, or to request to join the Council\, please contact tong@amchamthailand.com
LOCATION:Video conference
UID:e.3314.2423
SEQUENCE:3
DTSTAMP:20260420T014631Z
URL:http://www.connect.amchamthailand.com/events/details/customs-excise-council-may-2023-video-conference-2423
END:VEVENT

END:VCALENDAR
