BEGIN:VCALENDAR
VERSION:2.0
PRODID:-//ChamberMaster//Event Calendar 2.0//EN
METHOD:PUBLISH
X-PUBLISHED-TTL:P3D
REFRESH-INTERVAL:P3D
CALSCALE:GREGORIAN
BEGIN:VEVENT
DTSTART:20220902T013000Z
DTEND:20220902T060000Z
X-MICROSOFT-CDO-ALLDAYEVENT:FALSE
SUMMARY:Customs & Excise Council: New Developments in Strategic Trade Controls and Compliance in Thailand and the United States
DESCRIPTION:AMCHAM\, in collaboration with the US Export Control and Related Border Security (EXBS) Program of the US Embassy\, is delighted to welcome AMCHAM members to join a seminar and discussion session with the US EXBS Program and Subject Matter Experts.\n\n\n\nPlease join our Board Governor and Customs & Excise Council Co-chairs to welcome our distinguished guests and learn about Trade Control on Weapons of Mass Destruction (TCWMD)\, with relevant regulations on trade controls and compliance of Thailand and the US.\n\n\n\nTCWMD Act B.E. 2562 has taken effect since January 2020. The regulation prescribes a list of specific items\, controlled activities\, and their requirements. As the Act regulates all items that might be relevant to the proliferation of weapons of mass destruction\, regulations to ensure efficient screening such as Catch-All-Control (CAC) Notification and Internal Compliance Program (ICP) Notification have been introduced accordingly. This seminar aims to build capacity and understanding of the private sector to efficiently comply with both Thai and the US regulations on TCWMD.\n\n\n\nTopics of the seminar include 1) an overview and recent developments of Thailand?s Strategic Trade Controls\; including CAC Notification\, ICP Notification\, and outlook on the future implementation of the TCWMD Act\; 2) an overview and recent developments of the US Strategic Trade Controls and Sanctions\, and the application to AMCHAM members\; and 3) best practices for complying with Thailand and the US Strategic Trade Controls. The seminar will conclude with a group discussion on enhancing collaborations with the relevant agencies under the Royal Thai Government.\n\n\n\nThis program will last half a day with lunch provided. Due to space limitations\, confirmation of attendance will be on a first-come\, first-served basis. The last registration date is Monday August 29\, 2022.
X-ALT-DESC;FMTTYPE=text/html:<div>AMCHAM\, in collaboration with the US Export Control and Related Border Security (EXBS) Program of the US&nbsp\;Embassy\, is delighted to welcome AMCHAM members to join a seminar and discussion session with the US EXBS Program and Subject Matter Experts.</div>\n\n<div><br />\nPlease join our Board Governor&nbsp\;and Customs &amp\; Excise Council Co-chairs to welcome our distinguished guests and learn about Trade Control on Weapons of Mass Destruction (TCWMD)\, with relevant regulations on trade controls and compliance of Thailand and the US.</div>\n\n<div><br />\nTCWMD Act B.E. 2562 has taken effect since January 2020. The regulation prescribes a list of specific items\, controlled activities\, and their requirements. As the Act regulates all items that might be relevant to the proliferation of weapons of mass destruction\, regulations to ensure efficient screening such as Catch-All-Control (CAC) Notification and Internal Compliance Program (ICP) Notification have been introduced accordingly. This seminar aims to build capacity and understanding of the private sector to efficiently comply with both Thai and the US regulations on TCWMD.</div>\n\n<div><br />\nTopics of the seminar include 1) an overview and recent developments of Thailand?s Strategic Trade Controls\; including CAC Notification\, ICP Notification\, and outlook on the future implementation of the TCWMD Act\; 2) an overview and recent developments of the US Strategic Trade Controls and Sanctions\, and the application to AMCHAM members\; and 3) best practices for complying with Thailand and the US Strategic Trade Controls. The&nbsp\;seminar will conclude with a group discussion on enhancing collaborations with the relevant agencies under the Royal Thai Government.</div>\n\n<div><br />\nThis program will&nbsp\;last half a day&nbsp\;with&nbsp\;lunch provided. Due to space limitations\, confirmation of attendance will be on a first-come\, first-served basis. The last registration date is Monday August 29\, 2022.<br />\n&#8203\;</div>\n
LOCATION:Conrad Bangkok Hotel
UID:e.3314.2274
SEQUENCE:3
DTSTAMP:20260420T180556Z
URL:http://www.connect.amchamthailand.com/events/details/customs-excise-council-new-developments-in-strategic-trade-controls-and-compliance-in-thailand-and-the-united-states-2274
END:VEVENT

END:VCALENDAR
