BEGIN:VCALENDAR
VERSION:2.0
PRODID:-//ChamberMaster//Event Calendar 2.0//EN
METHOD:PUBLISH
X-PUBLISHED-TTL:P3D
REFRESH-INTERVAL:P3D
CALSCALE:GREGORIAN
BEGIN:VEVENT
DTSTART:20221129T020000Z
DTEND:20221129T030000Z
X-MICROSOFT-CDO-ALLDAYEVENT:FALSE
SUMMARY:Customs & Excise Council: November 2022 Video Conference
DESCRIPTION:The Customs & Excise Council will convene virtually on Nov 29. \n\n\n\nMeeting Agenda for November 29\n\n	Customs Update \n	\n		CKD BEV duty rate letter \n		Waiving of VAT penalties letter \n	\n	\n	Update on APEC Meeting  \n	Carry Forward Items to 2023: \n	\n		Counterfeit \n		New Developments in Ministry of Commerce's Trade Controls on Weapons of Mass Destruction Act ("TCWMD Act") \n		Customs appeals aging\n	\n	\n	Potential Topics for Engagement with the Excise Dept.: \n	\n		Carbon credit tax \n		Alcohol tax \n		Cigarette tax \n		Battery incentives and other EV pickup regulations \n		Other potential additional excisable goods \n	\n	\n	Customs Regulatory Update for Nov. \n	Highlights of 2022 activities and achievements of AMCHAM Customs & Excise Committee: \n	\n		Trainings \n		TWCMD and ICP program by MOC \n		HS Code Seminar by Thai Customs Dept. \n		TCWMD\, Export Control\, US Sanctions training hosted by US Embassy\n		Annual meeting with Customs Dept. \n		Closure issues with Customs Dept. \n		\n			Customs Assistance (CA) program  \n			Data requisition enhancement \n			Extension of COVID relief measures \n		\n		\n		Filing letter with Excise Dept.\, MOF \n		\n			Elderly Fund position letter  \n		\n		\n		Excise Dept. Issues to be monitored \n		\n			Sugar tax\, salty tax  \n			EV scheme \n			Carbon tax \n			Progressive Liquor Act\n		\n		\n	\n	\n\nAll AMCHAM members are welcome to attend the Customs & Excise Council meetings to stay abreast of the policy priorities that AMCHAM advocates for on behalf of members. Advance registration is necessary.\n\n\n\nTo continue to receive updates on our meetings and activities\, or to request to join the Council\, please contact theeta@amchamthailand.com.
X-ALT-DESC;FMTTYPE=text/html:The Customs &amp\; Excise Council will convene virtually on Nov 29.&nbsp\;<br />\n<br />\n<strong><u><span style="font-family:open sans\,sans-serif\;"><span style="font-size:10.0pt\;">Meeting Agenda for November 29</span></span></u></strong>\n<ul>\n	<li style="margin-left:0in\;"><span style="font-family:open sans\,sans-serif\;"><span style="font-size:10.0pt\;">Customs Update&#8203\;</span></span>\n	<ul>\n		<li style="margin-left:0in\;"><span style="font-family:open sans\,sans-serif\;"><span style="font-size:10.0pt\;">CKD BEV duty rate letter&#8203\;</span></span></li>\n		<li style="margin-left:0in\;"><span style="font-family:open sans\,sans-serif\;"><span style="font-size:10.0pt\;">Waiving of VAT penalties letter&#8203\;</span></span></li>\n	</ul>\n	</li>\n	<li style="margin-left:0in\;"><span style="font-family:open sans\,sans-serif\;"><span style="font-size:10.0pt\;">Update on APEC Meeting&nbsp\;&#8203\;</span></span></li>\n	<li style="margin-left:0in\;"><span style="font-family:open sans\,sans-serif\;"><span style="font-size:10.0pt\;">Carry Forward Items to 2023:&#8203\;</span></span>\n	<ul>\n		<li style="margin-left:0in\;"><span style="font-family:open sans\,sans-serif\;"><span style="font-size:10.0pt\;">Counterfeit&#8203\;</span></span></li>\n		<li style="margin-left:0in\;"><span style="font-family:open sans\,sans-serif\;"><span style="font-size:10.0pt\;">New Developments in Ministry of Commerce&#39\;s Trade Controls on Weapons of Mass Destruction Act&nbsp\;(&ldquo\;TCWMD Act&rdquo\;)&#8203\;</span></span></li>\n		<li style="margin-left:0in\;"><span style="font-family:open sans\,sans-serif\;"><span style="font-size:10.0pt\;">Customs appeals aging</span></span></li>\n	</ul>\n	</li>\n	<li style="margin-left:0in\;"><span style="font-family:open sans\,sans-serif\;"><span style="font-size:10.0pt\;">Potential Topics for Engagement with the Excise Dept.:&#8203\;</span></span>\n	<ul>\n		<li style="margin-left:0in\;"><span style="font-family:open sans\,sans-serif\;"><span style="font-size:10.0pt\;">Carbon credit tax&#8203\;</span></span></li>\n		<li style="margin-left:0in\;"><span style="font-family:open sans\,sans-serif\;"><span style="font-size:10.0pt\;">Alcohol tax&#8203\;</span></span></li>\n		<li style="margin-left:0in\;"><span style="font-family:open sans\,sans-serif\;"><span style="font-size:10.0pt\;">Cigarette tax&#8203\;</span></span></li>\n		<li style="margin-left:0in\;"><span style="font-family:open sans\,sans-serif\;"><span style="font-size:10.0pt\;">Battery incentives and other EV pickup regulations&#8203\;</span></span></li>\n		<li style="margin-left:0in\;"><span style="font-family:open sans\,sans-serif\;"><span style="font-size:10.0pt\;">Other potential additional excisable goods&#8203\;</span></span></li>\n	</ul>\n	</li>\n	<li style="margin-left:0in\;"><span style="font-family:open sans\,sans-serif\;"><span style="font-size:10.0pt\;">Customs Regulatory Update for Nov.&#8203\;</span></span></li>\n	<li style="margin-left:0in\;"><span style="font-family:open sans\,sans-serif\;"><span style="font-size:10.0pt\;">Highlights of 2022 activities and achievements of AMCHAM Customs &amp\; Excise Committee:&#8203\;</span></span>\n	<ul>\n		<li style="margin-left:0in\;"><span style="font-family:open sans\,sans-serif\;"><span style="font-size:10.0pt\;">Trainings&#8203\;</span></span></li>\n		<li style="margin-left:0in\;"><span style="font-family:open sans\,sans-serif\;"><span style="font-size:10.0pt\;">TWCMD and ICP program by MOC&#8203\;</span></span></li>\n		<li style="margin-left:0in\;"><span style="font-family:open sans\,sans-serif\;"><span style="font-size:10.0pt\;">HS Code Seminar by Thai Customs Dept.&#8203\;</span></span></li>\n		<li style="margin-left:0in\;"><span style="font-family:open sans\,sans-serif\;"><span style="font-size:10.0pt\;">TCWMD\, Export Control\, US Sanctions training hosted by US Embassy</span></span></li>\n		<li style="margin-left:0in\;"><span style="font-family:open sans\,sans-serif\;"><span style="font-size:10.0pt\;">Annual meeting with Customs Dept.&#8203\;</span></span></li>\n		<li style="margin-left:0in\;"><span style="font-family:open sans\,sans-serif\;"><span style="font-size:10.0pt\;">Closure issues with Customs Dept.&#8203\;</span></span>\n		<ul>\n			<li style="margin-left:0in\;"><span style="font-family:open sans\,sans-serif\;"><span style="font-size:10.0pt\;">Customs Assistance (CA) program &#8203\;</span></span></li>\n			<li style="margin-left:0in\;"><span style="font-family:open sans\,sans-serif\;"><span style="font-size:10.0pt\;">Data requisition enhancement&#8203\;</span></span></li>\n			<li style="margin-left:0in\;"><span style="font-family:open sans\,sans-serif\;"><span style="font-size:10.0pt\;">Extension of COVID relief measures&#8203\;</span></span></li>\n		</ul>\n		</li>\n		<li style="margin-left:0in\;"><span style="font-family:open sans\,sans-serif\;"><span style="font-size:10.0pt\;">Filing letter with Excise Dept.\, MOF&#8203\;</span></span>\n		<ul>\n			<li style="margin-left:0in\;"><span style="font-family:open sans\,sans-serif\;"><span style="font-size:10.0pt\;">Elderly Fund position letter &#8203\;</span></span></li>\n		</ul>\n		</li>\n		<li style="margin-left:0in\;"><span style="font-family:open sans\,sans-serif\;"><span style="font-size:10.0pt\;">Excise Dept. Issues to be monitored&#8203\;</span></span>\n		<ul>\n			<li style="margin-left:0in\;"><span style="font-family:open sans\,sans-serif\;"><span style="font-size:10.0pt\;">Sugar tax\, salty tax &#8203\;</span></span></li>\n			<li style="margin-left:0in\;"><span style="font-family:open sans\,sans-serif\;"><span style="font-size:10.0pt\;">EV scheme&#8203\;</span></span></li>\n			<li style="margin-left:0in\;"><span style="font-family:open sans\,sans-serif\;"><span style="font-size:10.0pt\;">Carbon tax&#8203\;</span></span></li>\n			<li style="margin-left:0in\;"><span style="font-family:open sans\,sans-serif\;"><span style="font-size:10.0pt\;">Progressive Liquor Act</span></span></li>\n		</ul>\n		</li>\n	</ul>\n	</li>\n</ul>\nAll AMCHAM members are welcome to attend the Customs &amp\; Excise Council meetings to stay abreast of the policy priorities that AMCHAM advocates for on behalf of members. Advance registration is necessary.<br color:="" font-size:="" open="" />\n<br color:="" font-size:="" open="" />\nTo continue to receive updates on our meetings and activities\, or to request to join the Council\, please contact&nbsp\;<a 0.3s="" all="" aria-label="Link kittie@amchamthailand.com" color:="" ease-in-out="" font-size:="" href="mailto:kittie@amchamthailand.com" open="" overflow-wrap:="" rel="noopener noreferrer" tabindex="-1" target="_blank" text-decoration-line:="" title="mailto:kittie@amchamthailand.com" transition:="">theeta@amchamthailand.com</a>.
LOCATION:Video conference
UID:e.3314.2137
SEQUENCE:3
DTSTAMP:20260420T142127Z
URL:http://www.connect.amchamthailand.com/events/details/customs-excise-council-november-2022-video-conference-2137
END:VEVENT

END:VCALENDAR
