BEGIN:VCALENDAR
VERSION:2.0
PRODID:-//ChamberMaster//Event Calendar 2.0//EN
METHOD:PUBLISH
X-PUBLISHED-TTL:P3D
REFRESH-INTERVAL:P3D
CALSCALE:GREGORIAN
BEGIN:VEVENT
DTSTART:20221011T020000Z
DTEND:20221011T030000Z
X-MICROSOFT-CDO-ALLDAYEVENT:FALSE
SUMMARY:Customs & Excise Council: October 2022 Video Conference
DESCRIPTION:The Customs & Excise Council will convene virtually on Oct 11. Please find below the agenda for the October 2022 Video Conference meeting.\n\n\n\nMeeting Agenda for October 11\n\n	Customs Update\n	\n		CKD EV duty rate letter\n		Long aging Customs Appeal cases\n		Waiving of VAT penalties letter\n		New Developments in Ministry of Commerce's Trade Controls on Weapons of Mass Destruction Act ("TCWMD Act")\n	\n	\n	Update on APEC Meeting \n	Excise Regulatory Update\n	\n		ASEAN DG Meeting on Digital Technologies to Enhance Excise Tax Administration and Moving towards Carbon Neutrality\, Oct. 4\n		Carbon tax\n		Tax measures to support the production of bioplastics\, bio jet fuel\, and environmentally-friendly batteries\n	\n	\n\nAll AMCHAM members are welcome to attend the Customs & Excise Council meetings to stay abreast of the policy priorities that AMCHAM advocates for on behalf of members. Advance registration is necessary.\n\n\n\nTo continue to receive updates on our meetings and activities\, or to request to join the Council\, please contact theeta@amchamthailand.com.
X-ALT-DESC;FMTTYPE=text/html:The Customs &amp\; Excise Council will convene virtually on Oct 11. Please find below the agenda for the October 2022 Video Conference meeting.<br />\n<br />\n<strong><u><span style="font-family:open sans\,sans-serif\;"><span style="font-size:10.0pt\;">Meeting Agenda for October 11</span></span></u></strong>\n<ul>\n	<li style="margin-left:0in\;"><span style="letter-spacing:.1pt\;">Customs Update</span>\n	<ul>\n		<li style="margin-left:0in\;">CKD EV duty rate letter</li>\n		<li style="margin-left:0in\;">Long aging Customs Appeal cases</li>\n		<li style="margin-left:0in\;">Waiving of VAT penalties letter</li>\n		<li style="margin-left:0in\;">New Developments in Ministry of Commerce&#39\;s Trade Controls on Weapons of Mass Destruction Act (&ldquo\;TCWMD Act&rdquo\;)</li>\n	</ul>\n	</li>\n	<li><span style="letter-spacing:.1pt\;">Update on APEC Meeting </span></li>\n	<li><span style="letter-spacing:.1pt\;">Excise Regulatory Update</span>\n	<ul>\n		<li>ASEAN DG Meeting on Digital Technologies to Enhance Excise Tax Administration and Moving towards Carbon Neutrality\, Oct. 4</li>\n		<li>Carbon tax</li>\n		<li>Tax measures to support the production of bioplastics\, bio jet fuel\, and environmentally-friendly batteries</li>\n	</ul>\n	</li>\n</ul>\nAll AMCHAM members are welcome to attend the Customs &amp\; Excise Council meetings to stay abreast of the policy priorities that AMCHAM advocates for on behalf of members. Advance registration is necessary.<br color:="" font-size:="" open="" />\n<br color:="" font-size:="" open="" />\nTo continue to receive updates on our meetings and activities\, or to request to join the Council\, please contact&nbsp\;<a 0.3s="" all="" aria-label="Link kittie@amchamthailand.com" color:="" ease-in-out="" font-size:="" href="mailto:kittie@amchamthailand.com" open="" overflow-wrap:="" rel="noopener noreferrer" tabindex="-1" target="_blank" text-decoration-line:="" title="mailto:kittie@amchamthailand.com" transition:="">theeta@amchamthailand.com</a>.
LOCATION:Video conference
UID:e.3314.2135
SEQUENCE:3
DTSTAMP:20260420T142010Z
URL:http://www.connect.amchamthailand.com/events/details/customs-excise-council-october-2022-video-conference-2135
END:VEVENT

END:VCALENDAR
