BEGIN:VCALENDAR
VERSION:2.0
PRODID:-//ChamberMaster//Event Calendar 2.0//EN
METHOD:PUBLISH
X-PUBLISHED-TTL:P3D
REFRESH-INTERVAL:P3D
CALSCALE:GREGORIAN
BEGIN:VEVENT
DTSTART:20191008T023000Z
DTEND:20191008T050000Z
X-MICROSOFT-CDO-ALLDAYEVENT:FALSE
SUMMARY:Customs & Excise Council: Seminar on introduction to new law ‘Export Control Law on Dual Use Product’ and ‘Weapon of Mass Destruction’ (WMD)
DESCRIPTION:The AMCHAM Customs & Excise Council is organizing a seminar on the introduction to the 'Export Control Law on Dual Use Product' and 'Weapons of Mass Destruction (WMD) Law'.\n\n \n\nThe Ministry of Commerce has enacted a new 'Act on control products which are related to the spread of Weapons of Mass Destruction (WMD)'. The Act was published in the Royal Gazette on April 30\, 2019.  The purpose of both laws is to control the products for export.\n\n\n\nThere are many uncertainties regarding this matter\, such as whether the 'Export Control Law on Dual Use Product' will be replaced by the WMD law\, how to comply\, and key implications for AMCHAM members.\n\n \n\nAMCHAM is pleased to invite you to participate in the seminar to learn more about both laws and your obligations. AMCHAM has invited Khun Patcharakarn Suthiworayanon\, the Ministry of Commerce specialist\, who will provide clarification and insights about the laws\, and Mr. John Haberstock\, Regional Export Control Officer of the US Department of Commerce\, who will share experience and international practice. The seminar will be conducted in English.\n\n \n\nThe program of the Seminar\n\n- 09:30 - 10:00 am              Registration\n\n- 10:00   10:05 am             Welcome AMCHAM members and speakers by Mr. Paul Sumner\, Co-Chair of AMCHAM Customs & Excise Council.\n\n- 10:05   10:45 am             Presentation on the 'Export Control on Dual Use Product Law' and 'Weapons of Mass Destruction (WMD) Law' by Khun Patcharakarn\n\n                                             Suthiworayanon.\n\n- 10:45   11:30 am             Sharing experience and international practice by Mr. John Haberstock\n\n- 11:30 am   12:00 noon    Q&A\n\n \n\nDue to space limitations\, we have a maximum capacity of 30 people. Please register online to reserve your space.
X-ALT-DESC;FMTTYPE=text/html:The AMCHAM Customs &amp\; Excise Council is organizing a seminar on the introduction to the &lsquo\;Export Control Law on Dual Use Product&rsquo\; and &lsquo\;Weapons of Mass Destruction (WMD) Law&rsquo\;.<br />\n&nbsp\;<br />\nThe Ministry of Commerce has enacted a new &lsquo\;Act on control products which are related to the spread of Weapons of Mass Destruction (WMD)&rsquo\;.&nbsp\;The Act was published in the Royal Gazette on April 30\, 2019.&nbsp\; The purpose of both laws is to control the products for export.<br />\n<br />\nThere are many uncertainties regarding this matter\, such as whether the &lsquo\;Export Control Law on Dual Use Product&rsquo\; will be replaced by the WMD law\, how to comply\, and key implications for AMCHAM members.<br />\n&nbsp\;<br />\nAMCHAM is pleased to invite you to participate in the seminar to learn more about both laws and your obligations.&nbsp\;AMCHAM has invited Khun Patcharakarn Suthiworayanon\, the Ministry of Commerce specialist\, who will provide clarification and insights about the laws\, and Mr. John Haberstock\, Regional Export Control Officer of the US Department of Commerce\, who will share experience and international practice.&nbsp\;The seminar will be conducted in English.<br />\n&nbsp\;<br />\nThe program of the Seminar<br />\n- 09:30 - 10:00 am&nbsp\;&nbsp\;&nbsp\;&nbsp\;&nbsp\;&nbsp\;&nbsp\;&nbsp\;&nbsp\;&nbsp\;&nbsp\;&nbsp\;&nbsp\;&nbsp\;Registration<br />\n- 10:00 &ndash\; 10:05&nbsp\;am&nbsp\;&nbsp\;&nbsp\;&nbsp\;&nbsp\;&nbsp\;&nbsp\;&nbsp\;&nbsp\;&nbsp\;&nbsp\;&nbsp\;&nbsp\;Welcome AMCHAM members and speakers by Mr. Paul Sumner\, Co-Chair of AMCHAM Customs &amp\; Excise Council.<br />\n- 10:05 &ndash\; 10:45&nbsp\;am&nbsp\;&nbsp\;&nbsp\;&nbsp\;&nbsp\;&nbsp\;&nbsp\;&nbsp\;&nbsp\;&nbsp\;&nbsp\;&nbsp\;&nbsp\;Presentation on the &lsquo\;Export Control on Dual Use Product Law&rsquo\; and &lsquo\;Weapons of Mass Destruction (WMD) Law&rsquo\; by Khun Patcharakarn<br />\n&nbsp\;&nbsp\;&nbsp\;&nbsp\;&nbsp\;&nbsp\;&nbsp\;&nbsp\;&nbsp\;&nbsp\;&nbsp\;&nbsp\;&nbsp\;&nbsp\;&nbsp\;&nbsp\;&nbsp\;&nbsp\;&nbsp\;&nbsp\;&nbsp\;&nbsp\;&nbsp\;&nbsp\;&nbsp\;&nbsp\;&nbsp\;&nbsp\;&nbsp\;&nbsp\;&nbsp\;&nbsp\;&nbsp\;&nbsp\;&nbsp\;&nbsp\;&nbsp\;&nbsp\;&nbsp\;&nbsp\;&nbsp\;&nbsp\;&nbsp\;&nbsp\; Suthiworayanon.<br />\n- 10:45 &ndash\; 11:30 am&nbsp\;&nbsp\;&nbsp\;&nbsp\;&nbsp\;&nbsp\;&nbsp\;&nbsp\;&nbsp\;&nbsp\;&nbsp\;&nbsp\;&nbsp\;Sharing experience and international practice by Mr. John Haberstock<br />\n- 11:30 am &ndash\; 12:00 noon&nbsp\;&nbsp\;&nbsp\;&nbsp\;Q&amp\;A<br />\n&nbsp\;<br />\nDue to space limitations\, we have a maximum capacity of 30 people. Please register online to reserve your space.
LOCATION:AMCHAM Office\, Citi Boardroom BTS: Ploenchit
UID:e.3314.386
SEQUENCE:3
DTSTAMP:20260423T091517Z
URL:http://www.connect.amchamthailand.com/events/details/customs-excise-council-seminar-on-introduction-to-new-law-export-control-law-on-dual-use-product-and-weapon-of-mass-destruction-wmd-386
END:VEVENT

END:VCALENDAR
