BEGIN:VCALENDAR
VERSION:2.0
PRODID:-//ChamberMaster//Event Calendar 2.0//EN
METHOD:PUBLISH
X-PUBLISHED-TTL:P3D
REFRESH-INTERVAL:P3D
CALSCALE:GREGORIAN
BEGIN:VEVENT
DTSTART:20200917T020000Z
DTEND:20200917T030000Z
X-MICROSOFT-CDO-ALLDAYEVENT:FALSE
SUMMARY:Customs & Excise Council: September 2020 Video Conference
DESCRIPTION:The Customs & Excise Council's September 2020 meeting will be virtual with the following agenda:\n\n\n	Update on AMCHAM meeting with Director-General of Excise Department\n	Update on AMCHAM meeting with Principle Advisor of Customs Department\n	Other issues.\n\n\nRegister for this meeting to discuss these issues which affect many AMCHAM companies and help us to determine workable solutions.
X-ALT-DESC;FMTTYPE=text/html:<p>The Customs &amp\; Excise Council&#39\;s September 2020 meeting will be virtual with the following agenda:</p>\n\n<ul>\n	<li style="margin-left:0in\;">Update on AMCHAM meeting with Director-General of Excise Department</li>\n	<li style="margin-left:0in\;">Update on AMCHAM meeting with Principle Advisor of Customs Department</li>\n	<li style="margin-left:0in\;">Other issues.</li>\n</ul>\n\n<p>Register for this meeting to discuss these issues which affect many AMCHAM companies and help us to determine workable solutions.</p>\n
LOCATION:Video conference
UID:e.3314.1677
SEQUENCE:3
DTSTAMP:20260422T143146Z
URL:http://www.connect.amchamthailand.com/events/details/customs-excise-council-september-2020-video-conference-1677
END:VEVENT

END:VCALENDAR
