BEGIN:VCALENDAR
VERSION:2.0
PRODID:-//ChamberMaster//Event Calendar 2.0//EN
METHOD:PUBLISH
X-PUBLISHED-TTL:P3D
REFRESH-INTERVAL:P3D
CALSCALE:GREGORIAN
BEGIN:VEVENT
DTSTART:20190911T020000Z
DTEND:20190911T033000Z
X-MICROSOFT-CDO-ALLDAYEVENT:FALSE
SUMMARY:Customs & Excise Council: September Meeting
DESCRIPTION:The Customs & Excise Council will convene to discuss the following topics:\n\n \n\nLearning: Quarterly Briefing\n\n	Preparation for the Weapons of Mass Destruction (WMD) law seminar on October 8 at 9:45 am.\n	Public hearing on Customs Reward System.\n\nAdvocacy:\n\n\n	Review of the draft policy paper on Excise facilitation.\n\n\n\n\nRegister for this meeting to discuss these issues which affect many AMCHAM companies and help us to determine workable solutions.
X-ALT-DESC;FMTTYPE=text/html:The Customs &amp\; Excise Council will convene to discuss the following topics:<br />\n&nbsp\;<br />\n<strong>Learning: </strong>Quarterly Briefing\n<ul>\n	<li>Preparation for the Weapons of Mass Destruction (WMD) law seminar on October 8 at 9:45 am.</li>\n	<li>Public hearing on Customs Reward System.</li>\n</ul>\n<strong>Advocacy:</strong>\n\n<ul>\n	<li>Review of the draft policy paper on Excise facilitation.</li>\n</ul>\n\n<p><br />\nRegister for this meeting to discuss these issues which affect many AMCHAM companies and help us to determine workable solutions.</p>\n
LOCATION:AMCHAM Office\, Citi Boardroom BTS: Ploenchit
UID:e.3314.369
SEQUENCE:3
DTSTAMP:20260423T105404Z
URL:http://www.connect.amchamthailand.com/events/details/customs-excise-council-september-meeting-369
END:VEVENT

END:VCALENDAR
