BEGIN:VCALENDAR
VERSION:2.0
PRODID:-//ChamberMaster//Event Calendar 2.0//EN
METHOD:PUBLISH
X-PUBLISHED-TTL:P3D
REFRESH-INTERVAL:P3D
CALSCALE:GREGORIAN
BEGIN:VEVENT
DTSTART:20230309T030000Z
DTEND:20230309T050000Z
X-MICROSOFT-CDO-ALLDAYEVENT:FALSE
SUMMARY:DEI Committee: 'Coming Out' Event – DEI in the Context of Thailand
DESCRIPTION:AMCHAM's new Diversity\, Equity\, and Inclusion Committee is holding its 'coming out' event\, a combination of exploring the current state of DEI in Thailand and inviting you to share your ideas for subjects the committee can address in the coming months. This is a subject area with many interesting facets and we want to know what facets would be most useful for AMCHAM members. Bring your ideas\, questions\, and suggestions to share!\n\n\n\nThe meeting will kick off with a brief keynote talk by our speaker\, Dr. Drew Mallory of Sasin School of Management\, before we invite discussion and contributions from the attending members.\n\n\n\nAbout the Speaker:\n\nDr. Drew B. Mallory is a PhD organizational psychologist\, professor of organizational behavior\, and transformational executive coach at Sasin School of Management. He is also the School's Inclusion Ambassador. Outside of business\, Drew has a background in social work and evidence-based social policy.  Drew specializes in creating climates that promote thriving and does research in areas like inclusion\, neurodiversity\, and identity.
X-ALT-DESC;FMTTYPE=text/html:<span class="ui-provider xh b c d e f g h i j k l m n o p q r s t u v w x y z ab ac ae af ag ah ai aj ak" dir="ltr">AMCHAM&#39\;s new Diversity\, Equity\, and Inclusion Committee is holding its &#39\;coming out&#39\; event\, a combination of exploring the current state of DEI in Thailand and inviting you to share your ideas for subjects the committee can address in the coming months. This is a subject area with many interesting facets and we want to know what facets would be most useful for AMCHAM members. Bring your ideas\, questions\, and suggestions to share!<br />\n<br />\nThe meeting will kick off with a brief keynote talk by our speaker\, Dr. Drew Mallory of Sasin School of Management\, before we invite discussion and contributions from the attending members.</span><br />\n<br />\n<span class="ui-provider xc b c d e f g h i j k l m n o p q r s t u v w x y z ab ac ae af ag ah ai aj ak" dir="ltr"><strong>About the Speaker:</strong><br />\n<a href="https://www.linkedin.com/in/drewbmallory/">Dr. Drew B. Mallory</a> is a PhD organizational psychologist\, professor of organizational behavior\, and transformational executive coach at Sasin School of Management. He is also the School&#39\;s Inclusion Ambassador. Outside of business\, Drew has a background in social work and evidence-based social policy.&nbsp\; Drew specializes in creating climates that promote thriving and does research in areas like inclusion\, neurodiversity\, and identity.</span>
LOCATION:True Digital Park West\, 2nd Floor\, Classroom 1 BTS: Punnawithi (direct exit to True Digital Park)
UID:e.3314.2501
SEQUENCE:3
DTSTAMP:20260420T052117Z
URL:http://www.connect.amchamthailand.com/events/details/dei-committee-coming-out-event-dei-in-the-context-of-thailand-2501
END:VEVENT

END:VCALENDAR
