BEGIN:VCALENDAR
VERSION:2.0
PRODID:-//ChamberMaster//Event Calendar 2.0//EN
METHOD:PUBLISH
X-PUBLISHED-TTL:P3D
REFRESH-INTERVAL:P3D
CALSCALE:GREGORIAN
BEGIN:VEVENT
DTSTART:20220927T030000Z
DTEND:20220927T043000Z
X-MICROSOFT-CDO-ALLDAYEVENT:FALSE
SUMMARY:Digital Economy Committee: Exclusive Technology Tour @QSNCC
DESCRIPTION:Please note that this event is being offered by TCC Technology\, so the data you provide with your registration is being submitted directly to them\, not to AMCHAM. AMCHAM is not liable for changes in scheduling or any incidents that may occur at the event.\n\n\n\nREGISTER NOW\n\n\n\nInnovation and technology help drive sustainability and create balance in the key areas of Environmental\, Social\, and Governance (ESG). The AMCHAM Digital Economy Committee in collaboration with the TCC Technology Group would like to invite member for a special tour of the Tech Group Ecosystem area\,. The event is part of the Sustainability Expo 2022 (SX2022)\, ASEAN's largest event promoting sustainability\, which will run from September 26 - October 2.\n\n\n\nTCC Technology Group has joined forces for this event with 7 leading global tech partners (Accenture\, DELL\, Huawei\, Microsoft\, SAP\, Salesforce\, and Tencent) to showcase solutions for sustainability. The technologies on display will focus on cutting-edge areas: Metaverse\, Digital Twin\, IoT Platforms\, Artificial Intelligence (AI)\, Intelligent Dashboards\, Performance Tracking\, Renewable Energy\, Solar Inverters\, and Power Storage.
X-ALT-DESC;FMTTYPE=text/html:<p>Please note that this event is being offered by TCC Technology\, so the data you provide with your registration is being submitted directly to them\, not to AMCHAM. AMCHAM is not liable for changes in scheduling or any incidents that may occur at the event.<br />\n<br />\n<a href="https://forms.office.com/r/efca138bMR"><span style="font-size: 16px\;"><span style="font-family: arial\;"><strong><span style="color: rgb(0\, 0\, 128)\;">REGISTER NOW</span></strong></span></span></a><br />\n<br />\nInnovation and technology help drive sustainability and create balance in the key areas of Environmental\, Social\, and Governance (ESG). The AMCHAM Digital Economy Committee&nbsp\;in collaboration with the TCC Technology Group would like to invite member for a special tour of the Tech Group Ecosystem area\,. The event is part of the <a href="http://www.sustainabilityexpo.com">Sustainability Expo 2022</a> (SX2022)\, ASEAN&rsquo\;s largest event promoting sustainability\, which will run&nbsp\;from September 26 - October 2.<br />\n<br />\nTCC Technology Group has joined forces for this event with 7 leading global tech partners (Accenture\, DELL\, Huawei\, Microsoft\, SAP\, Salesforce\, and Tencent) to showcase solutions for sustainability. The technologies on display will focus on cutting-edge areas: Metaverse\, Digital Twin\, IoT Platforms\, Artificial Intelligence (AI)\, Intelligent Dashboards\, Performance Tracking\, Renewable Energy\, Solar Inverters\, and Power Storage.</p>\n\n<p><br />\n<br />\n&nbsp\;</p>\n
LOCATION:Queen Sirikit National Convention Center (QSNCC) MRT: Queen Sirikit National Convention Center Please meet at the "Tech Group Ecosystem" Booth (see floorplan at registration link for G floor/Booth B1.
UID:e.3314.2288
SEQUENCE:3
DTSTAMP:20260420T180437Z
URL:http://www.connect.amchamthailand.com/events/details/digital-economy-committee-exclusive-technology-tour-qsncc-2288
END:VEVENT

END:VCALENDAR
