BEGIN:VCALENDAR
VERSION:2.0
PRODID:-//ChamberMaster//Event Calendar 2.0//EN
METHOD:PUBLISH
X-PUBLISHED-TTL:P3D
REFRESH-INTERVAL:P3D
CALSCALE:GREGORIAN
BEGIN:VEVENT
DTSTART:20230616T080000Z
DTEND:20230616T100000Z
X-MICROSOFT-CDO-ALLDAYEVENT:FALSE
SUMMARY:Digital Economy Committee: How Data is Reshaping the User Experience
DESCRIPTION:Across every industry\, data is being leveraged to create new and compelling benefits for business and for consumers. Whether optimizing financial management\, improving customer engagement\, enhancing sustainable agriculture\, or facilitating property development\, data is fast becoming a new asset class in its own right and the key to business remaining competitive through the creation of a more responsive user experience.\n\n\n\nThis event draws together a distinguished panel of business leaders with hands-on experience using data to power new and innovative solutions across a range of industry sectors\, both for large enterprises and for SMEs. Our panelists will describe how they use data in their own business and the tangible results being achieved. Following will be a lively panel discussion focusing on the challenges in implementing user-focused\, data-centric solutions\, as well as some surprising predictions for the future.\n\n\n\nAbout the speakers:\n\nAsist. Prof. Dr. Sanphawat Jatupatwarangkul\, Digital Practice Leader\, Aurecon (Thailand)\, leads Aurecon Thailand's digital transformation by developing and delivering future digital strategy and implementation. With over 19 years of Architecture\, Engineering and Construction (AEC) professional practice experience\, Dr Sanphawat is well-known as a trusted commercial and strategic digital and BIM adviser on a wide range of commercial and residential projects within Thailand and the region.\n\n \n\nLyn Kok\, CEO\, Mula-X\, is a strategic advisor and board member to several entrepreneurs on their global expansion business strategies. She is also an investor in several tech start-ups and has launched a fintech digital platform that initially focuses on Thailand's underbanked and underserved communities. Until September 2016\, she was President and Chief Executive Officer for Standard Chartered Bank (Thai)\, overseeing business in Thailand\, Cambodia\, Myanmar\, Laos and Vietnam. Before this\, she was Managing Director and General Manager (Beijing) for Standard Chartered Bank in China. In 2012\, she was awarded International Company CEO of the Year by Bloomberg Businessweek Thailand.\n\n \n\nDr. Rassarin Chinnachodteeranun is a co-founder and CEO of ListenField\, an agriculture technology company that is pioneering precision technology and climate smart agriculture in Southeast Asia and Japan. Rassarin strongly believes that farmers' livelihoods and planet sustainability can be vastly improved by the use of smart technology. In particular\, an analytical platform that generates data-driven insights for all stakeholders in the agriculture supply chain.\n\n \n\nMichael Chen is a Chief Executive Officer and Co-Founder of BUZZEBEES - Thailand's leading provider of CRM and Digital Engagement Platform in Thailand. Prior to establishing BUZZEBEES in 2012\, he garnered remarkable achievements as an IT Consultant at a Global Technology Consulting firm and as the head of his own enterprise\, iConcepts\, which specializes in biometric security systems for nearly two decades.
X-ALT-DESC;FMTTYPE=text/html:<span style="font-family:open sans\,sans-serif\;">Across every industry\, data is being leveraged to create new and compelling benefits for business and for consumers. Whether optimizing financial management\, improving customer engagement\, enhancing sustainable agriculture\, or facilitating property development\, data is fast becoming a new asset class in its own right and the key to business remaining competitive through the creation of a more responsive user experience.</span><br />\n<br />\n<span style="font-family:open sans\,sans-serif\;">This event draws together a distinguished panel of business leaders with hands-on experience using data to power new and innovative solutions across a range of industry sectors\, both for large enterprises and for SMEs. Our panelists will describe how they use data in their own business and the tangible results being achieved. Following will be a lively panel discussion focusing on the challenges in implementing user-focused\, data-centric solutions\, as well as some surprising predictions for the future.</span><br />\n<br />\n<strong>About the speakers:</strong><br />\n<a href="https://www.linkedin.com/in/sanphawat-jatupatwarangkul-1913ba52/">Asist. Prof. Dr. Sanphawat Jatupatwarangkul</a>\, Digital Practice Leader\, Aurecon (Thailand)\, leads Aurecon Thailand&#39\;s digital transformation by developing and delivering future digital strategy and implementation. With over 19 years of Architecture\, Engineering and Construction (AEC) professional practice experience\, Dr Sanphawat is well-known as a trusted commercial and strategic digital and BIM adviser on a wide range of commercial and residential projects within Thailand and the region.<br />\n&nbsp\;<br />\n<a href="https://www.linkedin.com/in/lynkok/">Lyn Kok</a>\, CEO\, Mula-X\, is a strategic advisor and board member to s<span style="font-family:open sans\,sans-serif\;">everal entrepreneurs on their global expansion business strategies. She is also an investor in several tech start-ups and has launched a fintech digital platform that initially focuses on Thailand&#39\;s underbanked and underserved communities. Until September 2016\, she was President and Chief Executive Officer for Standard Chartered Bank (Thai)\, overseeing business in Thailand\, Cambodia\, Myanmar\, Laos and Vietnam. Before this\, she was Managing Director and General Manager (Beijing) for Standard Chartered Bank in China. In 2012\, she was awarded International Company CEO of the Year by Bloomberg Businessweek Thailand.</span><br />\n&nbsp\;<br />\n<span style="font-family:open sans\,sans-serif\;"><a href="https://www.linkedin.com/in/rassarin-chin/">Dr. Rassarin Chinnachodteeranun</a> </span><span style="font-family:open sans\,sans-serif\;"><span style="font-size:10.5pt\;">is a co-founder and CEO of ListenField\, an agriculture technology company that is pioneering precision technology and climate smart agriculture in Southeast Asia and Japan. Rassarin strongly believes that farmers&#39\; livelihoods and planet sustainability can be vastly improved by the use of smart technology. In particular\, an analytical platform that generates data-driven insights for all stakeholders in the agriculture supply chain.</span></span><br />\n&nbsp\;<br />\n<span style="font-family:open sans\,sans-serif\;"><a href="https://www.linkedin.com/in/michael-chen-a8b20164/?originalSubdomain=nz">Michael Chen</a> is a Chief Executive Officer and Co-Founder of BUZZEBEES - Thailand&#39\;s leading provider of CRM and Digital Engagement Platform in Thailand. Prior to establishing BUZZEBEES in 2012\, he garnered remarkable achievements as an IT Consultant at a Global Technology Consulting firm and as the head of his own enterprise\, iConcepts\, which specializes in biometric security systems for nearly two decades.</span>
LOCATION:True Digital Park\, Griffin Building 7th Floor\, Townhall L BTS: Punnawithi (direct exit to True Digital Park) For directions to the Griffin Building\, click here. Please note that not all venues in True Digital Park are wheelchair-accessible. If you have mobility concerns\, please contact our staff so that we can ensure suitability of the venue.
UID:e.3314.2555
SEQUENCE:3
DTSTAMP:20260419T235325Z
URL:http://www.connect.amchamthailand.com/events/details/digital-economy-committee-how-data-is-reshaping-the-user-experience-2555
END:VEVENT

END:VCALENDAR
