BEGIN:VCALENDAR
VERSION:2.0
PRODID:-//ChamberMaster//Event Calendar 2.0//EN
METHOD:PUBLISH
X-PUBLISHED-TTL:P3D
REFRESH-INTERVAL:P3D
CALSCALE:GREGORIAN
BEGIN:VEVENT
DTSTART:20200528T030000Z
DTEND:20200528T040000Z
X-MICROSOFT-CDO-ALLDAYEVENT:FALSE
SUMMARY:Digital Economy Committee Video Conference: Using Microsoft Teams to Communicate and Collaborate
DESCRIPTION:There are many different online meeting and collaboration tools out there\, and no one-size-fits-all solution. Collaborating within your own department? Presenting corporate results to senior management? Running a remote seminar for customers? Holding a monthly meeting of your condo association? Each has its own requirements. The AMCHAM Digital Economy committee is pleased to bring you the first of what we hope will be a series of hands-on sessions\, to look at a few of  the tools available and provide some general Tips & Techniques for effective online communication and collaboration.\n\n\n\nThis event will focus on Microsoft Teams\, leading off with a presentation from Microsoft about how to use and manage Teams within an organization. Learn about the features that can help you decide if Teams is what you're looking for. And if you're already a Teams user\, get your how-to questions answered. In addition to our speaker from Microsoft\, we?ve invited a few organizations at various stages of Teams adoption to share their experience. We?ll hear from TCC Technology\, RMA Group\, and of course from the AMCHAM team on what they've learned (or learned to avoid) from rolling out Teams in different contexts\n\n\n\nAMCHAM committee leaders: This is an event you can't miss! With AMCHAM building its new events and engagement platform around Teams\, learn how to use it to run your committee more effectively. Start with the basics and let AMCHAM set you up with a guest account for planning and organizing committee activities. \n\n\n\nOur Speakers:\n\n	Vivek Anand Ravindran\, Sr. Director Modern Workplace\, Microsoft APAC. Vivek has represented Microsoft in several technology and business events and panel discussions. His specialties are building high-performing teams to drive initiatives\, understand emerging markets very well\, strong mix of technology and business skills\, ability to distill abstract problems into coherent execution ideas\, highly motivational leader and very good public speaker. \n	Waleeporn Sayasit\, General Manager\, Corporate Communications\, TCC Technology\n	Alex Konnaris\, CIO\, RMA Group\n	Sarawan Dever\, Deputy Director\, AMCHAM Thailand
X-ALT-DESC;FMTTYPE=text/html:There are many different online meeting and collaboration tools out there\, and no one-size-fits-all solution. Collaborating within your own department? Presenting corporate results to senior management? Running a remote seminar for customers? Holding a monthly meeting of your condo association? Each has its own requirements. The AMCHAM Digital Economy committee is pleased to bring you the first of what we hope will be a series of hands-on sessions\, to look at a few of&nbsp\; the tools available and provide some general Tips &amp\; Techniques for effective online communication and collaboration.<br />\n<br />\nThis event will focus on Microsoft Teams\, leading off with a presentation from Microsoft about how to use and manage Teams within an organization. Learn about the features that can help you decide if Teams is what you&#39\;re looking for. And if you&#39\;re already a Teams user\, get your how-to questions answered. In addition to our speaker from Microsoft\, we?ve invited a few organizations at various stages of Teams adoption to share their experience. We?ll hear from TCC Technology\, RMA Group\, and of course from the AMCHAM team on what they&#39\;ve learned (or learned to avoid) from rolling out Teams in different contexts<br />\n<br />\n<strong>AMCHAM committee leaders: </strong>This is an event you can&#39\;t miss! With AMCHAM building its new events and engagement platform around Teams\, learn how to use it to run your committee more effectively. Start with the basics and let AMCHAM set you up with a guest account for planning and organizing committee activities.&nbsp\;<br />\n<br />\n<strong>Our Speakers:</strong>\n<ul>\n	<li><a href="https://www.linkedin.com/in/vivek-ravindran-112654b/?originalSubdomain=sg">Vivek Anand Ravindran</a>\, Sr. Director Modern Workplace\, Microsoft APAC. Vivek&nbsp\;has represented Microsoft in several technology and business events and panel discussions. His specialties are building high-performing teams to drive initiatives\, understand emerging markets very well\, strong mix of technology and business skills\, ability to distill abstract problems into coherent execution ideas\, highly motivational leader and very good public speaker.&nbsp\;</li>\n	<li><a href="https://www.linkedin.com/in/waleeporn-som-o-sayasit-6608852b/?originalSubdomain=th">Waleeporn Sayasit</a>\, General Manager\, Corporate Communications\, TCC&nbsp\;Technology</li>\n	<li><a href="https://www.linkedin.com/in/alexkonnaris/">Alex Konnaris</a>\, CIO\, RMA Group</li>\n	<li><a href="https://www.linkedin.com/in/sarawandever/?originalSubdomain=th">Sarawan Dever</a>\, Deputy Director\, AMCHAM&nbsp\;Thailand</li>\n</ul>\n
LOCATION:Video Conference
UID:e.3314.1614
SEQUENCE:3
DTSTAMP:20260422T220203Z
URL:http://www.connect.amchamthailand.com/events/details/digital-economy-committee-video-conference-using-microsoft-teams-to-communicate-and-collaborate-1614
END:VEVENT

END:VCALENDAR
