BEGIN:VCALENDAR
VERSION:2.0
PRODID:-//ChamberMaster//Event Calendar 2.0//EN
METHOD:PUBLISH
X-PUBLISHED-TTL:P3D
REFRESH-INTERVAL:P3D
CALSCALE:GREGORIAN
BEGIN:VEVENT
DTSTART:20210621T070000Z
DTEND:20210621T080000Z
X-MICROSOFT-CDO-ALLDAYEVENT:FALSE
SUMMARY:Digital Economy Planning Meeting & PDPA Update
DESCRIPTION:You are cordially invited to attend the AMCHAM's Digital Economy's planning meeting for the second half of 2021.\n\n \n\nPlease join and share your ideas about programs or topics that you'd like to hear about or present on for upcoming Digital Economy events.\n\n \n\nIn addition\, the Interim Office of the Personal Data Protection Committee is continuing to develop the draft Subordinate Regulations of Thailand's Personal Data Protection Act (PDPA). Following the first public hearing last March\, the Committee is holding a second hearing in June\, with the last hearing scheduled for August. The Digital Economy leadership wants to hear your thoughts as well as provide you with an update on Thailand's PDPA progress and future plans on implementation.\n\n  \n\nIf you plan on attending\, please be sure to register online here.
X-ALT-DESC;FMTTYPE=text/html:You are cordially invited to attend the AMCHAM&#39\;s Digital Economy&#39\;s planning meeting for the second half of 2021.<br />\n&nbsp\;<br />\nPlease join and share your ideas about programs or topics that you&rsquo\;d like to hear about or present on for upcoming Digital Economy events.<br />\n&nbsp\;<br />\nIn addition\, the Interim Office of the Personal Data Protection Committee is continuing to develop the draft Subordinate Regulations of Thailand&#39\;s Personal Data Protection Act (PDPA). Following the first public hearing last March\, the Committee is holding a second hearing in June\, with the last hearing scheduled for August. The Digital Economy leadership wants to hear your thoughts as well as provide you with an update on Thailand&#39\;s PDPA progress and future plans on implementation.<br />\n&nbsp\;&nbsp\;<br />\nIf you plan on attending\, please be sure to register online<span style="font-family:open sans\,sans-serif\;"><span style="font-size:10.0pt\;"> here.</span></span><br />\n<br />\n&nbsp\;
LOCATION:Video Conference
UID:e.3314.1945
SEQUENCE:3
DTSTAMP:20260421T212029Z
URL:http://www.connect.amchamthailand.com/events/details/digital-economy-planning-meeting-pdpa-update-1945
END:VEVENT

END:VCALENDAR
