BEGIN:VCALENDAR
VERSION:2.0
PRODID:-//ChamberMaster//Event Calendar 2.0//EN
METHOD:PUBLISH
X-PUBLISHED-TTL:P3D
REFRESH-INTERVAL:P3D
CALSCALE:GREGORIAN
BEGIN:VEVENT
DTSTART:20260527T080000Z
DTEND:20260527T100000Z
X-MICROSOFT-CDO-ALLDAYEVENT:FALSE
SUMMARY:Economics & Trade Committee: Beyond the Headlines: Thailand’s Future in a Turbulent World
DESCRIPTION:AMCHAM's Economics & Trade Committee invites you to join them for an intimate fireside chat with Dr. Thitinan Pongsudhirak\, a keen observer of Thai politics\, society and economy\, as well as the broader ASEAN region\, well known to Thai audiences from his weekly Bangkok Post columns. We look forward to a wide-ranging conversation covering topics from the recent Thai elections to broader global conflict and the trade pressures shaping today's investment climate.\n\n\n\nBe sure to register early as seats are limited!\n\n \n\nAbout the Speaker\n\nDr. Thitinan Pongsudhirak is a Professor of International Relations at Chulalongkorn University's faculty of political science and Director at the Institute of Security and International Studies. He earned his degrees from the University of California and Johns Hopkins School of Advanced International Studies\, and a Ph.D. from the London School of Economics where he won the UK's best dissertation prize. Dr. Thitinan has held visiting positions at Johns Hopkins University\, Stanford University\, the University of Victoria in New Zealand\, and Yangon University\, and serves on editorial boards of academic journals\, including the Journal of Democracy. He has authored articles\, books\, book chapters\, and over 1\,000 opinion articles in local and international media. His work mainly focuses on Thai politics from a comparative perspective and geopolitics/geoeconomics of the Indo-Pacific. In 2015\, he was awarded a prize for excellence in opinion writing by the Society of Publishers in Asia.
X-ALT-DESC;FMTTYPE=text/html:AMCHAM&rsquo\;s Economics &amp\; Trade Committee invites you to join them for an intimate fireside chat with Dr. Thitinan Pongsudhirak\, a keen observer of Thai politics\, society and economy\, as well as the broader ASEAN region\, well known to Thai audiences from his weekly Bangkok Post columns. We look forward to a wide-ranging conversation covering topics from the recent Thai elections to broader global conflict and the trade pressures shaping today&rsquo\;s investment climate.<br />\n<br />\nBe sure to register early as seats are limited!<br />\n&nbsp\;<br />\n<u><strong>About the Speaker</strong></u><br />\n<strong>Dr. Thitinan Pongsudhirak</strong>&nbsp\;is a Professor of International Relations at Chulalongkorn University&rsquo\;s faculty of political science and Director&nbsp\;at the Institute of Security and International Studies. He earned his degrees from the University of California and Johns Hopkins School of Advanced International Studies\, and a Ph.D. from the London School of Economics where he won the UK&rsquo\;s best dissertation prize. Dr. Thitinan has held visiting positions at Johns Hopkins University\, Stanford University\, the University of Victoria in New Zealand\, and Yangon University\, and serves on editorial boards of academic journals\, including the Journal of Democracy. He has authored articles\, books\, book chapters\, and over 1\,000 opinion articles in local and international media. His work mainly focuses on Thai politics from a comparative perspective and geopolitics/geoeconomics of the Indo-Pacific. In 2015\, he was awarded a prize for excellence in opinion writing by the Society of Publishers in Asia.&nbsp\;
LOCATION:Hotel Indigo Bangkok BTS: Ploenchit Station
UID:e.3314.3348
SEQUENCE:3
DTSTAMP:20260424T142546Z
URL:http://www.connect.amchamthailand.com/events/details/economics-trade-committee-beyond-the-headlines-thailand-s-future-in-a-turbulent-world-3348
END:VEVENT

END:VCALENDAR
