BEGIN:VCALENDAR
VERSION:2.0
PRODID:-//ChamberMaster//Event Calendar 2.0//EN
METHOD:PUBLISH
X-PUBLISHED-TTL:P3D
REFRESH-INTERVAL:P3D
CALSCALE:GREGORIAN
BEGIN:VEVENT
DTSTART:20221020T030000Z
DTEND:20221020T040000Z
X-MICROSOFT-CDO-ALLDAYEVENT:FALSE
SUMMARY:Education Committee: How to Benchmark and Build Reputation in a School or University
DESCRIPTION:The reputation of a school or university is its most valuable asset. From increased quality of staff and student recruitment to a decrease in marketing costs\, a good reputation confers a wide spectrum of benefits. Why\, then do most institutions lack the knowledge and resources to build\, manage\, and evaluate reputation? Almost universally\, school and university leaders are having to renew their identities and high-level strategy in a dynamic and competitive post-pandemic landscape.\n\n\n\nDr Stephen Holmes is the only full-time practicing consultant and facilitator in the world with a PhD in the specific field of education marketing. His unique perspective on the related concepts of marketing\, strategic planning\, and reputation management have been achieved through pioneering work with many of the world's most prestigious institutions. \n\n\n\nThe AMCHAM Education Committee is honored to host Dr. Holmes as he addresses members on his highly practical\, whole-of-institution approach to school and university reputation development. Participants will understand how they can initiate a reputation development framework in their institutions\, and how success can be monitored and measured.
X-ALT-DESC;FMTTYPE=text/html:The reputation of a school or university is its most valuable asset. From increased quality of staff and student recruitment to a decrease in marketing costs\, a good reputation confers a wide spectrum of benefits. Why\, then do most institutions lack the knowledge and resources to build\, manage\, and evaluate reputation? Almost universally\, school and university leaders are having to renew their identities and high-level strategy in a dynamic and competitive post-pandemic landscape.<br />\n<br />\n<a href="https://www.linkedin.com/in/dr-stephen-holmes-76ba803/?originalSubdomain=sg">Dr Stephen Holmes</a> is the only full-time practicing consultant and facilitator in the world with a PhD in the specific field of education marketing. His unique perspective on the related concepts of marketing\, strategic planning\, and reputation management have been achieved through pioneering work with many of the world&rsquo\;s most prestigious institutions.&nbsp\;<br />\n<br />\nThe AMCHAM Education Committee is honored to host Dr. Holmes as he addresses members on his highly practical\, whole-of-institution approach to school and university reputation development. Participants will understand how they can initiate a reputation development framework in their institutions\, and how success can be monitored and measured.
LOCATION:Zoom Webinar
UID:e.3314.2304
SEQUENCE:3
DTSTAMP:20260420T161831Z
URL:http://www.connect.amchamthailand.com/events/details/education-committee-how-to-benchmark-and-build-reputation-in-a-school-or-university-2304
END:VEVENT

END:VCALENDAR
