BEGIN:VCALENDAR
VERSION:2.0
PRODID:-//ChamberMaster//Event Calendar 2.0//EN
METHOD:PUBLISH
X-PUBLISHED-TTL:P3D
REFRESH-INTERVAL:P3D
CALSCALE:GREGORIAN
BEGIN:VEVENT
DTSTART:20190110T080000Z
DTEND:20190110T093000Z
X-MICROSOFT-CDO-ALLDAYEVENT:FALSE
SUMMARY:Elon University Briefing
DESCRIPTION:By Invitation
X-ALT-DESC;FMTTYPE=text/html:By Invitation&nbsp\;
LOCATION:AMCHAM Office\, Citi Boardroom
UID:e.3314.104
SEQUENCE:3
DTSTAMP:20260424T000312Z
URL:http://www.connect.amchamthailand.com/events/details/elon-university-briefing-104
END:VEVENT

END:VCALENDAR
