BEGIN:VCALENDAR
VERSION:2.0
PRODID:-//ChamberMaster//Event Calendar 2.0//EN
METHOD:PUBLISH
X-PUBLISHED-TTL:P3D
REFRESH-INTERVAL:P3D
CALSCALE:GREGORIAN
BEGIN:VEVENT
DTSTART:20200121T080000Z
DTEND:20200121T093000Z
X-MICROSOFT-CDO-ALLDAYEVENT:FALSE
SUMMARY:Elon University Business Briefing
DESCRIPTION:Private briefing
X-ALT-DESC;FMTTYPE=text/html:Private briefing
LOCATION:
UID:e.3314.487
SEQUENCE:3
DTSTAMP:20260423T035422Z
URL:http://www.connect.amchamthailand.com/events/details/elon-university-business-briefing-487
END:VEVENT

END:VCALENDAR
