BEGIN:VCALENDAR
VERSION:2.0
PRODID:-//ChamberMaster//Event Calendar 2.0//EN
METHOD:PUBLISH
X-PUBLISHED-TTL:P3D
REFRESH-INTERVAL:P3D
CALSCALE:GREGORIAN
BEGIN:VEVENT
DTSTART:20230425T020000Z
DTEND:20230425T030000Z
X-MICROSOFT-CDO-ALLDAYEVENT:FALSE
SUMMARY:ESG Council: April 2023 Video Conference
DESCRIPTION:The Environmental\, Social & Governance (ESG) Council meets monthly to support the ESG journey of AMCHAM members towards corporate citizenship and planetary stewardship. Council meetings are a forum to connect stakeholders from AMCHAM member companies and allow for the exchange of experience and expertise. Register now to be part of this ongoing discussion about approaches to ESG for people\, the planet\, and profit.\n\n\n\nAgenda for the meeting\n\n\n	New ESG co-chair\n	Extended Producer Responsibility Policy \n	Draft Sustainable Packaging Management Promotion Act B.E. ....\n	Draft Circular Economy Promotion Act B.E. ....\n\n\nTo continue to receive updates on our meetings and activities\, or to request to join the Council\, please contact mai@amchamthailand.com.
X-ALT-DESC;FMTTYPE=text/html:<p>The Environmental\, Social &amp\; Governance (ESG) Council meets monthly to support the ESG journey of AMCHAM members towards corporate citizenship and planetary stewardship. Council meetings are a forum to connect stakeholders from AMCHAM member companies and allow for the exchange of experience and expertise. Register now to be part of this ongoing discussion about approaches to ESG for people\, the planet\, and profit.<br />\n<br />\n<strong>Agenda for the meeting</strong></p>\n\n<ul>\n	<li>New ESG co-chair</li>\n	<li>Extended Producer Responsibility Policy&nbsp\;</li>\n	<li>Draft Sustainable Packaging Management Promotion Act B.E. ....</li>\n	<li>Draft Circular Economy Promotion Act B.E. ....</li>\n</ul>\n\n<p>To continue to receive updates on our meetings and activities\, or to request to join the Council\, please contact&nbsp\;<a href="mailto:mai@amchamthailand.com" rel="noreferrer noopener" target="_blank" title="mailto:mai@amchamthailand.com">mai@amchamthailand.com</a>.&nbsp\;</p>\n
LOCATION:Online Video conference
UID:e.3314.2445
SEQUENCE:3
DTSTAMP:20260420T033849Z
URL:http://www.connect.amchamthailand.com/events/details/esg-council-april-2023-video-conference-2445
END:VEVENT

END:VCALENDAR
