BEGIN:VCALENDAR
VERSION:2.0
PRODID:-//ChamberMaster//Event Calendar 2.0//EN
METHOD:PUBLISH
X-PUBLISHED-TTL:P3D
REFRESH-INTERVAL:P3D
CALSCALE:GREGORIAN
BEGIN:VEVENT
DTSTART:20231208T020000Z
DTEND:20231208T030000Z
X-MICROSOFT-CDO-ALLDAYEVENT:FALSE
SUMMARY:ESG Council: Environmental Policies and Their Influence on Global and Thai Trade and Investment
DESCRIPTION:The Environmental\, Social & Governance (ESG) Council meets monthly to support the ESG journey of AMCHAM members towards corporate citizenship and planetary stewardship. Council meetings are a forum to connect stakeholders from AMCHAM member companies and allow for the exchange of experience and expertise.\n\n\n\nJoin us at this meeting to welcome our special guest speakers who will present on worldwide environmental policies and their impact on trade and investment.\n\n \n\nAbout Speakers:\n\n \n\nBulin Sanooj is a lead partner of the Sustainability group and is also active in the Corporate and M&A and Renewable Energy groups at Baker McKenzie's Bangkok office. Bulin is a member of the Carbon Capture Storage and Removals Working Group under the World Business Council for Sustainability Development.\n\n\n\nKeerati Saneewong Na Ayudthaya is a partner in the Tax and International Commercial & Trade practice groups at Baker McKenzie. He has assisted clients during all stages of business\, including planning\, business structuring\, implementation\, investment\, and dispute resolution.\n\n\n\nVarutt Kittichungchit is a key associate in the Sustainability group at Baker McKenzie's Bangkok office. He assists foreign investors on investment in Thailand and the formation and reorganization of joint ventures. Prior to joining Baker McKenzie\, he had been an engineer and a researcher at a Japanese company for more than five years.\n\n \n\nDhiranantha Rithmanee is an environmental specialist at Baker McKenzie. She has extensive knowledge of the renewable energy sector and the complexities around implementing and reducing greenhouse gas emissions with over 20 years of experience in sustainable energy technology and product life cycles. Her area of expertise includes life cycle assessments\, the carbon footprint of products and services\, water and ecological footprint\, energy footprint\, green management\, green supply chain\, energy management and renewable energy\, sustainable development\, and smart farming.
X-ALT-DESC;FMTTYPE=text/html:The Environmental\, Social &amp\; Governance (ESG) Council meets monthly to support the ESG journey of AMCHAM members towards corporate citizenship and planetary stewardship. Council meetings are a forum to connect stakeholders from AMCHAM member companies and allow for the exchange of experience and expertise.<br />\n<br />\nJoin us at this meeting to welcome our special guest speakers who will present on worldwide environmental policies and their impact on trade and investment.<br />\n&nbsp\;<br />\n<strong>About Speakers:</strong><br />\n&nbsp\;<br />\n<a href="https://th.linkedin.com/in/bulin-sanooj-b76994103">Bulin Sanooj</a>&nbsp\;is a lead partner of the Sustainability group and is also active in the Corporate and M&amp\;A and Renewable Energy groups at Baker McKenzie&#39\;s Bangkok office. Bulin is a member of the Carbon Capture Storage and Removals Working Group under the World Business Council for Sustainability Development.<br />\n<br />\n<a href="https://th.linkedin.com/in/keerati-saneewong-na-ayudthaya">Keerati Saneewong Na Ayudthaya</a>&nbsp\;is a partner in the Tax and International Commercial &amp\; Trade practice groups at Baker McKenzie. He has assisted clients during all stages of business\, including planning\, business structuring\, implementation\, investment\, and dispute resolution.<br />\n<br />\n<a href="https://www.linkedin.com/in/varutt-kittichungchit-0785691a2/">Varutt Kittichungchit</a>&nbsp\;is&nbsp\;a key associate in the Sustainability group at Baker McKenzie&#39\;s Bangkok office. He assists foreign investors on investment in Thailand and the formation and reorganization of joint ventures. Prior to joining Baker McKenzie\, he had been an engineer and a researcher at a Japanese company for more than five years.<br />\n&nbsp\;<br />\n<a href="https://www.linkedin.com/in/%E0%B8%AD%E0%B8%B2%E0%B8%88%E0%B8%B2%E0%B8%A3%E0%B8%A2%E0%B9%8C-%E0%B8%98%E0%B8%B5%E0%B8%A3%E0%B8%99%E0%B8%B1%E0%B8%99%E0%B8%97%E0%B8%B2-dhiranantha-rithmanee-b631aa5b/?originalSubdomain=th">Dhiranantha Rithmanee&nbsp\;</a>is an environmental specialist at Baker McKenzie. She has extensive knowledge of the renewable energy sector and the complexities around implementing and reducing greenhouse gas emissions with over 20 years of experience in sustainable energy technology and product life cycles. Her area of expertise includes life cycle assessments\, the carbon footprint of products and services\, water and ecological footprint\, energy footprint\, green management\, green supply chain\, energy management and renewable energy\, sustainable development\, and smart farming.
LOCATION:Video conference
UID:e.3314.2643
SEQUENCE:3
DTSTAMP:20260419T135304Z
URL:http://www.connect.amchamthailand.com/events/details/esg-council-environmental-policies-and-their-influence-on-global-and-thai-trade-and-investment-2643
END:VEVENT

END:VCALENDAR
