BEGIN:VCALENDAR
VERSION:2.0
PRODID:-//ChamberMaster//Event Calendar 2.0//EN
METHOD:PUBLISH
X-PUBLISHED-TTL:P3D
REFRESH-INTERVAL:P3D
CALSCALE:GREGORIAN
BEGIN:VEVENT
DTSTART:20230131T020000Z
DTEND:20230131T030000Z
X-MICROSOFT-CDO-ALLDAYEVENT:FALSE
SUMMARY:ESG Council: January 2023 Video Conference
DESCRIPTION:The Environmental\, Social\, and Corporate Governance (ESG) Council will convene for the first time on Jan 31. The ESG Council will discuss activity plan for 2023\, ESG advocacy issues\, as well as ESG practices.\n\n\n\nAll AMCHAM members are welcome to attend and provide inputs for the 2023 ESG Council activities as well as advocacy ideas.\n\n\n\nAgenda for the meeting\n\nIntroduction of ESG Co-Chairs and Board Liaison\n\nActivity Plan\n\n\n	Q1: Exploring ESG   Introduction and Best Practices\n	Q2-Q4: Prioritizing ESG topics for advocacy actions   Position Paper(s)\, Government Engagement(s)\, or other activities.\n\nInputs from AMCHAM members\n\n\n\nTo continue to receive updates on our meetings and activities\, or to request to join the Council\, please contact mai@amchamthailand.com.
X-ALT-DESC;FMTTYPE=text/html:<p>The Environmental\, Social\, and Corporate Governance (ESG) Council will convene for the first time on Jan 31. The ESG Council will discuss activity plan for 2023\, ESG advocacy issues\, as well as ESG practices.<br />\n<br />\nAll AMCHAM members are welcome to attend and provide inputs for the 2023 ESG Council activities as well as advocacy ideas.<br />\n<br />\n<u>Agenda for the meeting</u><br />\nIntroduction of ESG Co-Chairs and Board Liaison<br />\nActivity Plan</p>\n\n<ul>\n	<li>Q1: Exploring ESG &ndash\; Introduction and Best Practices</li>\n	<li>Q2-Q4: Prioritizing ESG topics for advocacy actions &ndash\; Position Paper(s)\, Government Engagement(s)\, or other activities.</li>\n</ul>\nInputs from AMCHAM members\n\n<p><br />\nTo continue to receive updates on our meetings and activities\, or to request to join the Council\, please contact&nbsp\;<a href="mailto:mai@amchamthailand.com" rel="noreferrer noopener" target="_blank" title="mailto:mai@amchamthailand.com">mai@amchamthailand.com</a>.&nbsp\;</p>\n
LOCATION:Video conference
UID:e.3314.2441
SEQUENCE:3
DTSTAMP:20260420T090453Z
URL:http://www.connect.amchamthailand.com/events/details/esg-council-january-2023-video-conference-2441
END:VEVENT

END:VCALENDAR
