BEGIN:VCALENDAR
VERSION:2.0
PRODID:-//ChamberMaster//Event Calendar 2.0//EN
METHOD:PUBLISH
X-PUBLISHED-TTL:P3D
REFRESH-INTERVAL:P3D
CALSCALE:GREGORIAN
BEGIN:VEVENT
DTSTART:20231020T060000Z
DTEND:20231020T070000Z
X-MICROSOFT-CDO-ALLDAYEVENT:FALSE
SUMMARY:ESG Council: October 2023 Video Conference
DESCRIPTION:The Environmental\, Social & Governance (ESG) Council meets monthly to support the ESG journey of AMCHAM members towards corporate citizenship and planetary stewardship. Council meetings are a forum to connect stakeholders from AMCHAM member companies and allow for the exchange of experience and expertise. Register now to be part of this ongoing discussion about approaches to ESG for people\, the planet\, and profit.
X-ALT-DESC;FMTTYPE=text/html:<p>The Environmental\, Social &amp\; Governance (ESG) Council meets monthly to support the ESG journey of AMCHAM members towards corporate citizenship and planetary stewardship. Council meetings are a forum to connect stakeholders from AMCHAM member companies and allow for the exchange of experience and expertise. Register now to be part of this ongoing discussion about approaches to ESG for people\, the planet\, and profit.</p>\n
LOCATION:Online Video conference
UID:e.3314.2450
SEQUENCE:3
DTSTAMP:20260419T164718Z
URL:http://www.connect.amchamthailand.com/events/details/esg-council-october-2023-video-conference-2450
END:VEVENT

END:VCALENDAR
