BEGIN:VCALENDAR
VERSION:2.0
PRODID:-//ChamberMaster//Event Calendar 2.0//EN
METHOD:PUBLISH
X-PUBLISHED-TTL:P3D
REFRESH-INTERVAL:P3D
CALSCALE:GREGORIAN
BEGIN:VEVENT
DTSTART:20200402T080000Z
DTEND:20200402T090000Z
X-MICROSOFT-CDO-ALLDAYEVENT:FALSE
SUMMARY:Eyes on AMCHAM: A virtual meeting with Ambassador Michael George DeSombre Video Conference
DESCRIPTION:AMCHAM is pleased to welcome Ambassador Michael George DeSombre in his first address to the AMCHAM community. Speaking directly from the residence\, he will host a member-wide video conference. After his opening remarks\, he will engage participants directly in an open question and answer session on the U.S - Thai bilateral relationship\, the unprecedented challenges brought by covid-19\, and future prospects. \n\nAmbassador DeSombre was confirmed by the United States Senate on January 8\, 2020 as U.S. Ambassador to the Kingdom of Thailand. Prior to this\, he was a partner in the law firm of Sullivan and Cromwell from 2004 to 2019\, where he led their mergers and acquisition practice in Asia. Ambassador DeSombre has had over two decades of experience representing and negotiating on behalf of American and international clients in large scale investment and economic development projects in Asia. In this role\, he has gained unique insight into the political\, legal\, and strategic challenges that face American interests in Asia and the Indo-Pacific region.\n\nAmbassador DeSombre graduated from Stanford University with a B.A. in Quantitative Economics and an M.A. in East Asian Studies\, and received his J.D. from Harvard Law School. He is married with four children.\nNumbers are limited and registrations are limited to one senior representative per company\, so we encourage you to register as soon as possible.\n\n\n\n---------------------------------------\n\n\n\n\n\nAMCHAM suggests that for a seamless video-conference experience you adhere to the following:\n\n\n	Please use headphones to reduce noise from other applications on your computer.\n	If possible\, connect to the internet using an ethernet cable as WiFi can sometimes be unreliable.\n	Please mute your microphone unless you are speaking to reduce ambient room noise.\n	Please turn on your camera so that the Ambassador can see you as you ask questions\n	If you have any issues please call (Khun Petch Tel: 064-310-3559 or Khun TK Tel:063-535-0727) for assistance
X-ALT-DESC;FMTTYPE=text/html:<p>AMCHAM is pleased to welcome Ambassador Michael George&nbsp\;DeSombre in his first address to the AMCHAM community. Speaking directly from the residence\, he will host a member-wide video conference.&nbsp\;After his opening remarks\, he will engage participants directly in an open question and answer session on the U.S - Thai bilateral relationship\, the unprecedented challenges brought by covid-19\, and future prospects.&nbsp\;</p>\n\n<p>Ambassador&nbsp\;DeSombre was confirmed by the United States Senate on January 8\, 2020 as U.S. Ambassador to the Kingdom of Thailand. Prior to this\, he&nbsp\;was a partner in the law firm of Sullivan and Cromwell from 2004 to 2019\, where he led their mergers and acquisition practice in Asia.&nbsp\;Ambassador DeSombre has had over two decades of experience representing and negotiating on behalf of American and international clients in large scale investment and economic development projects in Asia.&nbsp\;In this role\, he has gained unique insight into the political\, legal\, and strategic challenges that face American interests in Asia and the Indo-Pacific region.</p>\n\n<p>Ambassador DeSombre graduated from Stanford University with a B.A. in Quantitative Economics and an M.A. in East Asian Studies\, and received his J.D. from Harvard Law School. He is married with four children.</p>\nNumbers are limited and registrations are limited to one senior representative per company\, so we encourage you to register as soon as possible.<br />\n<br />\n---------------------------------------\n<div>\n<div 3:45="" amcham="" apple="" back="" better="" but="" can="" color="" confirmation="" data-tid="messageBodyContent" div="" felt="" font-size:="" i="" if="" in="" include="" it="" on="" put="" segoe="" stuff="" technical="" thailand="" the="" there="" to="" took="" ui="" was="" you="">\n<div data-tid="messageBodyContainer">\n<div data-tid="messageBodyContent">\n<div>\n<p>AMCHAM suggests that for a seamless video-conference experience you adhere to the following:</p>\n\n<ul>\n	<li>Please use headphones to reduce noise from other applications on your computer.</li>\n	<li>If possible\, connect to the internet using an ethernet cable as WiFi can sometimes be unreliable.</li>\n	<li>Please mute your microphone unless you are speaking to reduce ambient room noise.</li>\n	<li>Please turn on your camera so that the Ambassador can see you as you ask questions</li>\n	<li>If you have any issues please call (Khun&nbsp\;Petch Tel: 064-310-3559 or Khun TK Tel:063-535-0727) for assistance</li>\n</ul>\n</div>\n</div>\n</div>\n</div>\n</div>\n
LOCATION:Online Video Conference
UID:e.3314.1580
SEQUENCE:3
DTSTAMP:20260422T222428Z
URL:http://www.connect.amchamthailand.com/events/details/eyes-on-amcham-a-virtual-meeting-with-ambassador-michael-george-desombre-video-conference-1580
END:VEVENT

END:VCALENDAR
