BEGIN:VCALENDAR
VERSION:2.0
PRODID:-//ChamberMaster//Event Calendar 2.0//EN
METHOD:PUBLISH
X-PUBLISHED-TTL:P3D
REFRESH-INTERVAL:P3D
CALSCALE:GREGORIAN
BEGIN:VEVENT
DTSTART:20230906T110000Z
DTEND:20230906T140000Z
X-MICROSOFT-CDO-ALLDAYEVENT:FALSE
SUMMARY:FCA September Sundowners
DESCRIPTION:Please be advised that this function is a partner event with an external organizer. The registration link will send you away from the AMCHAM website to the website of the organizer.  Please be advised that this event organizer may have different data collection/privacy and event cancellation policies than AMCHAM Thailand.\n\nREGISTER NOW\n\n\n\nThe Australian-Thai Chamber of Commerce (AustCham)\, together with The American Chamber of Commerce in Thailand (AMCHAM)\, The British Chamber of Commerce Thailand (BCCT) and German-Thai Chamber of Commerce (GTCC)\, would like to invite our members and guests to attend a unique networking experience\, Foreign Chambers Alliance (FCA) September Sundowners. \n\n\n\nThis premiere networking event will be held on Wednesday 6th September 2023\, from 18.00 - 21.00 hrs.\, at Anantara Riverside Bangkok Resort\, a tropical charm hotel located on the west bank of the Chao Phraya which offer urban serenity twinned with authentic discoveries\n\n\n\nJoin us for a wonderful night of making new connections and catching up with familiar faces in the Australian-Thai business community. As well as\, getting to know and learn from our corporate sponsor ? Minor International\, a global company focused on three core businesses: hospitality\, restaurants and lifestyle brands distribution.
X-ALT-DESC;FMTTYPE=text/html:<p>Please be advised that this function is a partner event with an external organizer. The registration link will send you away from the AMCHAM website to the website of the organizer.&#8203\; Please be advised that this event organizer may have different data collection/privacy and event cancellation policies than AMCHAM Thailand.</p>\n\n<p><a href="https://www.austchamthailand.com/event/6-sep-september-sundowners-2/"><span style="font-size:16px\;"><span style="font-family:arial\;"><strong><span style="color:#000080\;">REGISTER NOW</span></strong></span></span></a><br />\n<br />\nThe Australian-Thai Chamber of Commerce (AustCham)\, together with The American Chamber of Commerce in Thailand (AMCHAM)\, The British Chamber of Commerce Thailand (BCCT) and German-Thai Chamber of Commerce (GTCC)\, would like to invite our members and guests to attend a unique networking experience\, Foreign Chambers Alliance (FCA) September Sundowners.&nbsp\;<br />\n<br />\nThis premiere networking event will be held on Wednesday 6th September 2023\, from 18.00 - 21.00 hrs.\, at Anantara Riverside Bangkok Resort\, a tropical charm hotel located on the west bank of the Chao Phraya which offer urban serenity twinned with authentic discoveries<br />\n<br />\nJoin us for a wonderful night of making new connections and catching up with familiar faces in the Australian-Thai business community. As well as\, getting to know and learn from our corporate sponsor ? Minor International\, a global company focused on three core businesses: hospitality\, restaurants and lifestyle brands distribution.</p>\n
LOCATION:Anantara Riverside Bangkok Resort
UID:e.3314.2614
SEQUENCE:3
DTSTAMP:20260419T182701Z
URL:http://www.connect.amchamthailand.com/events/details/fca-september-sundowners-2614
END:VEVENT

END:VCALENDAR
