BEGIN:VCALENDAR
VERSION:2.0
PRODID:-//ChamberMaster//Event Calendar 2.0//EN
METHOD:PUBLISH
X-PUBLISHED-TTL:P3D
REFRESH-INTERVAL:P3D
CALSCALE:GREGORIAN
BEGIN:VEVENT
DTSTART:20221201T110000Z
DTEND:20221201T140000Z
X-MICROSOFT-CDO-ALLDAYEVENT:FALSE
SUMMARY:Festive Season Party
DESCRIPTION:Fully Booked.\n\n\n\nFor more than 50 years\, our Festive Season Party has been the traditional start of the holiday season for AMCHAM members.\n\n\n\nCome join us to toast in the festive season with Minor International's famous eggnog and a fabulous holiday spread by Anantara Siam. \n\n\n\nMembers may give the gift of education this festive season by making a small donation at the door supporting financially challenged Thai university students through the AMCHAM scholarship fund.\n\n \n\nPlease note that this is an AMCHAM MEMBERS-ONLY event and limited to two guests per company.  Please come along with your colleague or spouse. Please register for each attendee.  Registration is only available while space lasts.\n\n\n\nIn addition to the eggnog and holiday treats\, free flow wine and beer will be available. We look forward to celebrating with you!\n\n\n\nThank you to Mastercard\, Netflix\, WHA Group\, and Minor International for their generous sponsorship of the event.
X-ALT-DESC;FMTTYPE=text/html:<p font-size:="" trebuchet=""><strong>Fully Booked.</strong><br />\n<br />\nFor more than 50 years\, our Festive Season Party has been the traditional start of the holiday season for AMCHAM members.<br background-color:="" font-size:="" trebuchet="" />\n<br background-color:="" font-size:="" trebuchet="" />\nCome join us to toast in the festive season with&nbsp\;Minor International&#39\;s famous eggnog and a fabulous holiday spread by Anantara Siam.&nbsp\;<br />\n<br />\nMembers may give the gift of education this festive season by making a small&nbsp\;donation at the door&nbsp\;supporting financially challenged Thai university students through the AMCHAM scholarship fund.<br background-color:="" font-size:="" trebuchet="" />\n&nbsp\;<br background-color:="" font-size:="" trebuchet="" />\nPlease note that this is an AMCHAM MEMBERS-ONLY event and limited to two guests per company.&nbsp\; Please come along with your colleague or spouse. Please register for each attendee.&nbsp\; Registration is only available while space lasts.<br background-color:="" font-size:="" trebuchet="" />\n<br background-color:="" font-size:="" trebuchet="" />\nIn addition to the eggnog and holiday treats\, free flow wine and beer will be available. We look forward to celebrating with you!<br />\n<br />\nThank you to Mastercard\, Netflix\, WHA Group\, and Minor International for their generous sponsorship&nbsp\;of&nbsp\;the event.</p>\n
LOCATION:Anantara Siam Bangkok Hotel\, Ballroom
UID:e.3314.2289
SEQUENCE:3
DTSTAMP:20260420T123829Z
URL:http://www.connect.amchamthailand.com/events/details/festive-season-party-2289
END:VEVENT

END:VCALENDAR
