BEGIN:VCALENDAR
VERSION:2.0
PRODID:-//ChamberMaster//Event Calendar 2.0//EN
METHOD:PUBLISH
X-PUBLISHED-TTL:P3D
REFRESH-INTERVAL:P3D
CALSCALE:GREGORIAN
BEGIN:VEVENT
DTSTART:20191220T023000Z
DTEND:20191220T040000Z
X-MICROSOFT-CDO-ALLDAYEVENT:FALSE
SUMMARY:Florida International University Briefing
DESCRIPTION:By Invitation
X-ALT-DESC;FMTTYPE=text/html:By Invitation&nbsp\;
LOCATION:AMCHAM Office
UID:e.3314.406
SEQUENCE:3
DTSTAMP:20260423T073648Z
URL:http://www.connect.amchamthailand.com/events/details/florida-international-university-briefing-406
END:VEVENT

END:VCALENDAR
