BEGIN:VCALENDAR
VERSION:2.0
PRODID:-//ChamberMaster//Event Calendar 2.0//EN
METHOD:PUBLISH
X-PUBLISHED-TTL:P3D
REFRESH-INTERVAL:P3D
CALSCALE:GREGORIAN
BEGIN:VEVENT
DTSTART:20190222T050000Z
DTEND:20190222T063000Z
X-MICROSOFT-CDO-ALLDAYEVENT:FALSE
SUMMARY:Food & Agri-Business Committee: 2019 Planning Meeting
DESCRIPTION:Join the Food and Agri-Business Committee for our 2019 program planning session on Friday\, February 22\, at noon. Please bring your ideas for talks\, tours\, lobbying\, and other needed and fun activities. We want more people to get involved in 2019\, so please invite associates and friends too. \n\n\n\nRegistration is at 12 noon\, followed by a sandwich lunch and business networking. The working session will begin at 12:30 pm.\n\n\n\nWe look forward to seeing you!
X-ALT-DESC;FMTTYPE=text/html:<span style="font-size:14px\;"><span style="font-family:arial\;">Join the Food and Agri-Business Committee for our 2019 program planning session on Friday\, February 22\, at noon. Please bring your ideas for talks\, tours\, lobbying\, and other needed and fun activities. We want more people to get involved in 2019\, so please invite associates and friends too.&nbsp\;<br>\n<br>\nRegistration is at 12 noon\, followed by a sandwich lunch and business networking. The working session will begin at 12:30 pm.<br>\n<br>\nWe look forward to seeing you!</span></span>
LOCATION:AMCHAM Office\, Citi Boardroom (7th floor) Nearest BTS: Ploenchit
UID:e.3314.193
SEQUENCE:3
DTSTAMP:20260423T221835Z
URL:http://www.connect.amchamthailand.com/events/details/food-agri-business-committee-2019-planning-meeting-193
END:VEVENT

END:VCALENDAR
