BEGIN:VCALENDAR
VERSION:2.0
PRODID:-//ChamberMaster//Event Calendar 2.0//EN
METHOD:PUBLISH
X-PUBLISHED-TTL:P3D
REFRESH-INTERVAL:P3D
CALSCALE:GREGORIAN
BEGIN:VEVENT
DTSTART:20200213T050000Z
DTEND:20200213T063000Z
X-MICROSOFT-CDO-ALLDAYEVENT:FALSE
SUMMARY:Food & Agri-Business Committee: 2020 Planning Meeting
DESCRIPTION:Join the Food and Agri-Business Committee for our 2020 program planning session on Thursday\, February 13\, at noon. Please bring your ideas for talks\, tours\, lobbying\, and other fun activities. We want more people to get involved in 2020\, so please invite associates and friends\, too!
X-ALT-DESC;FMTTYPE=text/html:<div>Join the Food and Agri-Business Committee for our 2020 program planning session on Thursday\, February 13\, at noon. Please bring your ideas for talks\, tours\, lobbying\, and other fun activities. We want more people to get involved in 2020\, so please invite associates and friends\, too!</div>\n
LOCATION:AMCHAM Office\, Citi Boardroom (7th floor) Nearest BTS: Ploenchit View Map
UID:e.3314.1512
SEQUENCE:3
DTSTAMP:20260423T021450Z
URL:http://www.connect.amchamthailand.com/events/details/food-agri-business-committee-2020-planning-meeting-1512
END:VEVENT

END:VCALENDAR
