BEGIN:VCALENDAR
VERSION:2.0
PRODID:-//ChamberMaster//Event Calendar 2.0//EN
METHOD:PUBLISH
X-PUBLISHED-TTL:P3D
REFRESH-INTERVAL:P3D
CALSCALE:GREGORIAN
BEGIN:VEVENT
DTSTART:20181128T050000Z
DTEND:20181128T060000Z
X-MICROSOFT-CDO-ALLDAYEVENT:FALSE
SUMMARY:Food & Agri-Business Committee: Bangkok Big Trees Project
DESCRIPTION:Please join the Food & Agri-Business Committee for a talk by Anunta Intra-aksorn\, co-founder of BIG Trees Project. BIG Trees Project is currently working towards developing 60 public parks in Thailand\; developing urban arboriculture\; organic farming\; and numerous educational programs for school children\, such as tree climbing and green school outings.\n\n \n\nYOU ARE WHAT YOU BREATHE: The Big Trees Project is an environmental volunteer and advocacy group that works with communities\, government agencies as well the private sector and other civic groups to promote awareness and activities that help preserve public green spaces in Bangkok and beyond. They communicate with the public through social media. Their main focus and symbol is large trees whose survival depend on the quality of the green spaces where they are found and how active the surrounding communities are. They also work closely with government agencies and local municipalities to ensure that they engage the public in their conservation efforts.
X-ALT-DESC;FMTTYPE=text/html:<p>Please join the Food &amp\; Agri-Business Committee for a talk by&nbsp\;<strong>Anunta Intra-aksorn</strong>\, co-founder of BIG Trees Project.&nbsp\;BIG Trees Project is currently working towards developing&nbsp\;60 public parks in Thailand\; developing&nbsp\;urban <span style="color: rgb(34\, 34\, 34)\; font-family: arial\, sans-serif\; font-size: small\;">arboriculture\;&nbsp\;</span>organic farming\; and numerous educational programs for school children\, such as tree climbing and green school outings.<br />\n&nbsp\;<br />\nYOU ARE WHAT YOU BREATHE: The Big Trees Project is an environmental volunteer and advocacy group that works with communities\, government agencies as well the private sector and other civic groups to promote awareness and activities that help preserve public green spaces in Bangkok and beyond. They communicate with the public through social media. Their main focus and symbol is large trees whose survival depend on the quality of the green spaces where they are found and how active the surrounding communities are. They also work closely with government agencies and local municipalities to ensure that they engage the public in their conservation efforts.</p>\n
LOCATION:AMCHAM Office\, Citi Boardroom (7th floor) Nearest BTS: Ploenchit
UID:e.3314.90
SEQUENCE:3
DTSTAMP:20260424T030813Z
URL:http://www.connect.amchamthailand.com/events/details/food-agri-business-committee-bangkok-big-trees-project-90
END:VEVENT

END:VCALENDAR
