BEGIN:VCALENDAR
VERSION:2.0
PRODID:-//ChamberMaster//Event Calendar 2.0//EN
METHOD:PUBLISH
X-PUBLISHED-TTL:P3D
REFRESH-INTERVAL:P3D
CALSCALE:GREGORIAN
BEGIN:VEVENT
DTSTART:20181122T050000Z
DTEND:20181122T060000Z
X-MICROSOFT-CDO-ALLDAYEVENT:FALSE
SUMMARY:Food & Agri-Business Committee: Cannabis Industry Update
DESCRIPTION:With the expansion of countries legalizing cannabis\, many interesting issues around the industry are emerging. From regulation and production\, to R&D\, product development and marketing - the industry is set to outperform expectations.\n\n\n\nJoin the AMCHAM Food & Agribusiness Committee to hear from Douglas de Weese\, about how his company\, Rare Air USA\, is specializing in a very niche space within the industry - unique and hard to find heirloom and landrace varieties of cannabis. He will be discussing industry trends and sharing his experience in this fascinating market. \n\n\n\nNine U.S. states and Washington\, DC\, have legalized marijuana for recreational use for adults over the age of 21. Medical marijuana is now legal in another 30 states after voters in Oklahoma approved a ballot initiative to legalize medical marijuana in June. The surge of cannabis infused cuisine and commercial cannabis has also brought about questions regarding mergers\, intellectual property\, employment\, tourism\, and labeling\; as well as developments in biotechnology. Thailand also recently pondered the legalization of cannabis.\n\n\n\nIn addition to the Ministry of Public Health's January 2018 liberalization of hemp for certain licenses (for commercial and non-commercial uses) and the recent October 2018 public consultation on liberalization of cannabis for certain licensed research\, members will also learn more about upcoming changes from Alan Adcock\, Partner and Deputy Director\, Intellectual Property Department\, Tilleke & Gibbins International ltd. \n\n\n\nPlease join us for what will certainly be a stimulating discussion.
X-ALT-DESC;FMTTYPE=text/html:With the expansion of countries legalizing&nbsp\;cannabis\, many interesting issues around the industry are emerging. From regulation and production\, to R&amp\;D\, product development and marketing -&nbsp\;the industry is set to outperform expectations.<br -webkit-text-stroke-width:="" background-color:="" font-size:="" font-style:="" font-variant-caps:="" font-variant-ligatures:="" font-weight:="" helvetica="" letter-spacing:="" open="" orphans:="" text-align:="" text-decoration-color:="" text-decoration-style:="" text-indent:="" text-transform:="" white-space:="" widows:="" word-spacing:="" />\n<br -webkit-text-stroke-width:="" background-color:="" font-size:="" font-style:="" font-variant-caps:="" font-variant-ligatures:="" font-weight:="" helvetica="" letter-spacing:="" open="" orphans:="" text-align:="" text-decoration-color:="" text-decoration-style:="" text-indent:="" text-transform:="" white-space:="" widows:="" word-spacing:="" />\nJoin the AMCHAM Food &amp\; Agribusiness Committee to hear from&nbsp\;<strong>Douglas de Weese</strong>\, about how his company\,&nbsp\;Rare Air USA\, is specializing in a very niche space within the industry - unique and hard to find heirloom and landrace varieties of cannabis. He will be discussing industry trends and sharing his experience&nbsp\;in this fascinating market.&nbsp\;<br -webkit-text-stroke-width:="" background-color:="" font-size:="" font-style:="" font-variant-caps:="" font-variant-ligatures:="" font-weight:="" helvetica="" letter-spacing:="" open="" orphans:="" text-align:="" text-decoration-color:="" text-decoration-style:="" text-indent:="" text-transform:="" white-space:="" widows:="" word-spacing:="" />\n<br -webkit-text-stroke-width:="" background-color:="" font-size:="" font-style:="" font-variant-caps:="" font-variant-ligatures:="" font-weight:="" helvetica="" letter-spacing:="" open="" orphans:="" text-align:="" text-decoration-color:="" text-decoration-style:="" text-indent:="" text-transform:="" white-space:="" widows:="" word-spacing:="" />\nNine U.S. states and Washington\, DC\, have legalized marijuana for recreational use for adults over the age of 21. Medical marijuana is now legal in another 30 states after voters in Oklahoma approved a ballot initiative to legalize medical marijuana in June. The surge of cannabis infused cuisine and commercial cannabis has also brought about questions regarding mergers\, intellectual property\, employment\, tourism\,&nbsp\;and labeling\; as well as developments in biotechnology. Thailand also recently pondered the legalization of cannabis.<br -webkit-text-stroke-width:="" background-color:="" font-size:="" font-style:="" font-variant-caps:="" font-variant-ligatures:="" font-weight:="" helvetica="" letter-spacing:="" open="" orphans:="" text-align:="" text-decoration-color:="" text-decoration-style:="" text-indent:="" text-transform:="" white-space:="" widows:="" word-spacing:="" />\n<br -webkit-text-stroke-width:="" background-color:="" font-size:="" font-style:="" font-variant-caps:="" font-variant-ligatures:="" font-weight:="" helvetica="" letter-spacing:="" open="" orphans:="" text-align:="" text-decoration-color:="" text-decoration-style:="" text-indent:="" text-transform:="" white-space:="" widows:="" word-spacing:="" />\nIn addition&nbsp\;to the Ministry of Public Health&rsquo\;s January 2018 liberalization of hemp for certain licenses (for commercial and non-commercial uses) and the recent October 2018 public consultation on liberalization of cannabis for certain licensed research\, members will also learn more about upcoming changes from&nbsp\;<strong>Alan Adcock</strong>\, Partner and&nbsp\;Deputy Director\, Intellectual Property Department\,&nbsp\;Tilleke &amp\; Gibbins International ltd.&nbsp\;<br -webkit-text-stroke-width:="" background-color:="" font-size:="" font-style:="" font-variant-caps:="" font-variant-ligatures:="" font-weight:="" helvetica="" letter-spacing:="" open="" orphans:="" text-align:="" text-decoration-color:="" text-decoration-style:="" text-indent:="" text-transform:="" white-space:="" widows:="" word-spacing:="" />\n<br -webkit-text-stroke-width:="" background-color:="" font-size:="" font-style:="" font-variant-caps:="" font-variant-ligatures:="" font-weight:="" helvetica="" letter-spacing:="" open="" orphans:="" text-align:="" text-decoration-color:="" text-decoration-style:="" text-indent:="" text-transform:="" white-space:="" widows:="" word-spacing:="" />\nPlease join us for what will certainly be a stimulating discussion.
LOCATION:AMCHAM Office\, Citi Boardroom (7th floor) Nearest BTS: Ploenchit
UID:e.3314.46
SEQUENCE:3
DTSTAMP:20260424T043533Z
URL:http://www.connect.amchamthailand.com/events/details/food-agri-business-committee-cannabis-industry-update-46
END:VEVENT

END:VCALENDAR
