BEGIN:VCALENDAR
VERSION:2.0
PRODID:-//ChamberMaster//Event Calendar 2.0//EN
METHOD:PUBLISH
X-PUBLISHED-TTL:P3D
REFRESH-INTERVAL:P3D
CALSCALE:GREGORIAN
BEGIN:VEVENT
DTSTART:20190805T050000Z
DTEND:20190805T063000Z
X-MICROSOFT-CDO-ALLDAYEVENT:FALSE
SUMMARY:Food & Agri-Business Committee: Feeding Asia in the Age of Skepticism Over Science
DESCRIPTION:Asia is a region of vast diversity in terms of geography\, agro-climatic zones\, crops cultivated\, socio-economic growth\, and political ideologies etc. With specific reference to agrochemicals and biotechnology\, the region provides great opportunity for growth as the region grapples with challenges such as low crop and animal productivity\, urbanization\, land degradation and also demographic challenges that drive faster changes in food consumption. Overall\, since past three decades\, the region has witnessed significant progress in terms of lifting hundreds of millions out of abject poverty but it still remains vulnerable to volatility in food prices\, climatic vagaries and other shocks such as international trade disruptions. \n\n\n\nGiven the potential for growth\, Asia is home to more than 4 billion people and it is going to outpace all other regions in several aspects. Specifically in the food & agriculture sector\, the region is undergoing tectonic changes in the policy and regulatory framework and there are opportunities to steer the agenda towards science-based\, unbiased and holistic policy making. \n\n\n\nThe technological innovations of plant science continue to enable smallholder farmer in Asia and around the world to grow more safe and nutritious food with fewer resources and less impact on the world around us. \n\n\n\nOur speaker\n\nDr. Siang Hee TAN is the Executive Director of CropLife Asia\, the Asian operation of an international trade association with a presence in 91 countries. He is responsible for directing regulatory\, crop protection\, seeds\, intellectual property\, biotechnology as well as communications and outreach programs in 15 Asian countries. His other professional experience includes establishing the University of Putra Malaysia (UPM) Genome Centre\, and management of two startup ventures developing bioinformatics software and prenatal genetic testing. He was also responsible for establishing the biotechnology section for the Sime Darby Technology Centre\; project managing the Northern Corridor Economic Region Project (NCER) on large-scale farming\; and developing an agri-entrepreneur program.
X-ALT-DESC;FMTTYPE=text/html:Asia is a region of vast diversity in terms of geography\, agro-climatic zones\, crops cultivated\, socio-economic growth\, and political ideologies etc. With specific reference to agrochemicals and biotechnology\, the region provides great opportunity for growth as the region grapples with challenges such as low crop and animal productivity\, urbanization\, land degradation and also demographic challenges that drive faster changes in food consumption. Overall\, since past three decades\, the region has witnessed significant progress in terms of lifting hundreds of millions out of abject poverty but it still remains vulnerable to volatility in food prices\, climatic vagaries and other shocks such as international trade disruptions.&nbsp\;<br />\n<br />\nGiven the potential for growth\, Asia is home to more than 4 billion people and it is going to outpace all other regions in several aspects. Specifically in the food &amp\; agriculture sector\, the region is undergoing tectonic changes in the policy and regulatory framework and there are opportunities to steer the agenda towards science-based\, unbiased and holistic policy making.&nbsp\;<br />\n<br />\nThe technological innovations of plant science continue to enable smallholder farmer in Asia and around the world to grow more safe and nutritious food with fewer resources and less impact on the world around us.&nbsp\;<br />\n<br />\n<strong>Our speaker</strong><br />\n<a href="https://www.linkedin.com/in/siangheetan/?originalSubdomain=sg">Dr. Siang Hee TAN</a> is the Executive Director of CropLife Asia\, the Asian operation of an international trade association with a presence in 91 countries. He is responsible for directing regulatory\, crop protection\, seeds\, intellectual property\, biotechnology as well as communications and outreach programs in 15 Asian countries. His other professional experience includes establishing the University of Putra Malaysia (UPM) Genome Centre\, and management of two startup ventures developing bioinformatics software and prenatal genetic testing. He was also responsible for establishing the biotechnology section for the Sime Darby Technology Centre\; project managing the Northern Corridor Economic Region Project (NCER) on large-scale farming\; and developing an agri-entrepreneur program.&nbsp\;
LOCATION:AMCHAM Office\, Citi Boardroom (7th floor) Nearest BTS: Ploenchit
UID:e.3314.344
SEQUENCE:3
DTSTAMP:20260423T144420Z
URL:http://www.connect.amchamthailand.com/events/details/food-agri-business-committee-feeding-asia-in-the-age-of-skepticism-over-science-344
END:VEVENT

END:VCALENDAR
