BEGIN:VCALENDAR
VERSION:2.0
PRODID:-//ChamberMaster//Event Calendar 2.0//EN
METHOD:PUBLISH
X-PUBLISHED-TTL:P3D
REFRESH-INTERVAL:P3D
CALSCALE:GREGORIAN
BEGIN:VEVENT
DTSTART:20200619T070000Z
DTEND:20200619T080000Z
X-MICROSOFT-CDO-ALLDAYEVENT:FALSE
SUMMARY:Food & Agri-Business Committee Video Conference: What’s Happened to Cannabis?
DESCRIPTION:On February 19\, 2019\, Thailand unexpectedly became the first country in Asia to legalize medical cannabis. Since then\, there has been notable regulatory progress as the government set some ground rules for the country's nascent cannabis industry. However\, we have also seen occasional mixed signals from regulators with the promulgation of sometimes contradictory measures\, leaving the industry in a state of limbo. Adding to the uncertainty\, the COVID-19 outbreak in Thailand has seized the attention of authorities and has the business community reeling as operators try to regroup and press on. \n\n\n\nThis video conference is a timely and helpful opportunity to assess the situation regarding the cannabis industry in Thailand and gain insight into how the industry can be expected to develop from here. The presentation will follow the chronology of the announcements\, corrections\, and regulatory turns\, thereby laying out what's been done\, what's left to do\, and a projection of when Thailand could eventually get there.\n\n\n\nOur Speaker:\n\n	Dr Atthachai Homhuan is a Manager\, Regulatory affairs\, at Tilleke & Gibbins. Atthachai assists chemical\, life sciences\, pharmaceutical\, and biotechnology companies to draft and review their patent claims and specifications. He advises patent agents on amending claims and providing responses to office actions. Atthachai frequently drafts counterstatements against opposing parties in trademark and patent applications. His practice also includes advising on pre-litigation and litigation matters involving the life sciences\, medical devices\, and pharmaceuticals. He has presented before the IP&IT Court as a witness in chemistry and life sciences patent litigation.
X-ALT-DESC;FMTTYPE=text/html:On February 19\, 2019\, Thailand unexpectedly became the first country in Asia to legalize medical cannabis. Since then\, there has been notable regulatory progress as the government set some ground rules for the country&rsquo\;s nascent cannabis industry. However\, we have also seen occasional mixed signals from regulators with the promulgation of sometimes contradictory measures\, leaving the industry in a state of limbo. Adding to the uncertainty\, the COVID-19 outbreak in Thailand has seized the attention of authorities and has the business community reeling as operators try to regroup and press on.&nbsp\;<br />\n<br />\nThis video conference is a timely and helpful opportunity to assess the situation regarding the cannabis industry in Thailand and gain insight into how the industry can be expected to develop from here. The presentation will follow the chronology of the announcements\, corrections\, and regulatory turns\, thereby laying out what&rsquo\;s been done\, what&rsquo\;s left to do\, and a projection of when Thailand could eventually get there.<br />\n<br />\n<strong>Our Speaker:</strong>\n<ul>\n	<li><a href="https://www.linkedin.com/in/atthachai-homhuan-06018199?originalSubdomain=th">Dr Atthachai Homhuan</a> is a Manager\, Regulatory affairs\, at Tilleke &amp\; Gibbins. Atthachai assists chemical\, life sciences\, pharmaceutical\, and biotechnology companies to draft and review their patent claims and specifications. He advises patent agents on amending claims and providing responses to office actions. Atthachai frequently drafts counterstatements against opposing parties in trademark and patent applications. His practice also includes advising on pre-litigation and litigation matters involving the life sciences\, medical devices\, and pharmaceuticals. He has presented before the IP&amp\;IT Court as a witness in chemistry and life sciences patent litigation.</li>\n</ul>\n
LOCATION:Video Conference
UID:e.3314.1627
SEQUENCE:3
DTSTAMP:20260422T183531Z
URL:http://www.connect.amchamthailand.com/events/details/food-agri-business-committee-video-conference-what-s-happened-to-cannabis-1627
END:VEVENT

END:VCALENDAR
