BEGIN:VCALENDAR
VERSION:2.0
PRODID:-//ChamberMaster//Event Calendar 2.0//EN
METHOD:PUBLISH
X-PUBLISHED-TTL:P3D
REFRESH-INTERVAL:P3D
CALSCALE:GREGORIAN
BEGIN:VEVENT
DTSTART:20210524T030000Z
DTEND:20210524T040000Z
X-MICROSOFT-CDO-ALLDAYEVENT:FALSE
SUMMARY:Food and Agri-Business Committee: Thailand Food & Drug Administration Update: Hemp and Cannabis Food Product Regulations
DESCRIPTION:What's new with hemp and cannabis?  The Food and Agri-Business Committee has organized another event around Thailand's liberalization of hemp and cannabis. This includes products\, services\, R&D\, and\, of course\, registration with the Thai FDA.  \n\n \n\nNoting the strides the Thai FDA is making in preparing for pharmaceutical\, cosmetic and food products regulations for this new industry\, our Food & Agribusiness Committee is very pleased to have Dr. Sayan Ruadrew\, Food and Drug Technical Officer of Food and Drug Administration\, Ministry of Health join us on May 24 at 10 am to learn more about the Thai FDA's preparations for food products containing hemp and cannabis derivatives. \n\n\n\nOur speaker:\n\nDr. Sayan Ruadrew\, Food and Drug Technical Officer\, Professional Level at Food Division\, Food and Drug Administration\, Ministry of Public Health (Thai FDA) and currently completed Ph.D. (Food Toxicology)\, School of Health and Life Sciences\, Glasgow Caledonian University\, United Kingdom. His research area focused in carcinogens or mutagens in food as well as naturally-occurring anticarcinogens or antimutagens in foods or plants.
X-ALT-DESC;FMTTYPE=text/html:What&#39\;s new with hemp and cannabis?&nbsp\;&nbsp\;The Food and Agri-Business Committee has organized another&nbsp\;event&nbsp\;around Thailand&#39\;s liberalization of hemp and cannabis. This includes products\, services\, R&amp\;D\, and\, of course\, registration with the Thai FDA.&nbsp\;&nbsp\;<br />\n&nbsp\;<br />\nNoting the strides the Thai FDA is making in preparing for pharmaceutical\, cosmetic and food products regulations for this new industry\, our Food &amp\; Agribusiness Committee is very pleased to have Dr. Sayan Ruadrew\, Food and Drug Technical Officer of Food and Drug Administration\, Ministry of Health join us on May 24 at 10 am&nbsp\;to learn more about the Thai FDA&rsquo\;s preparations for food products containing hemp and cannabis derivatives.&nbsp\;<br />\n<br />\nOur speaker:<br />\n<a href="https://www.linkedin.com/in/sayan-ruadrew-phd-b486129a/">Dr. Sayan Ruadrew</a>\,&nbsp\;Food and Drug Technical Officer\, Professional Level at Food Division\, Food and Drug Administration\, Ministry of Public Health (Thai FDA)&nbsp\;and currently completed Ph.D. (Food Toxicology)\, School of Health and Life Sciences\, Glasgow Caledonian University\, United Kingdom. His research area&nbsp\;focused in carcinogens or mutagens in food as well as naturally-occurring anticarcinogens or antimutagens in foods or plants.
LOCATION:Online Webinar
UID:e.3314.1908
SEQUENCE:3
DTSTAMP:20260422T011135Z
URL:http://www.connect.amchamthailand.com/events/details/food-and-agri-business-committee-thailand-food-drug-administration-update-hemp-and-cannabis-food-product-regulations-1908
END:VEVENT

END:VCALENDAR
