BEGIN:VCALENDAR
VERSION:2.0
PRODID:-//ChamberMaster//Event Calendar 2.0//EN
METHOD:PUBLISH
X-PUBLISHED-TTL:P3D
REFRESH-INTERVAL:P3D
CALSCALE:GREGORIAN
BEGIN:VEVENT
DTSTART:20181114T110000Z
DTEND:20181114T133000Z
X-MICROSOFT-CDO-ALLDAYEVENT:FALSE
SUMMARY:Gadget Night @ SEAC Leadavation Center
DESCRIPTION:ONLINE REGISTRATION IS CLOSED.  WALK-INS WELCOME!!!\n\n \n\nGadget Night is back! \n\n\n\nWe are excited to present the latest edition of our unique networking experience\, where we'll be displaying the coolest gadgets and unexpected applications of technology. Vendors include: Microsoft\, Seagate\, Minor\, Black & Decker\, HP\, Coffee Works\, Tank Store\, and many more. Come and witness Virtual Reality headsets\; learn how cutting-edge sensor technology is helping Thai farmers improve their crop yields\; see the latest hi-tech camping and outdoor gear\; marvel at how technology is helping reinvent education\; and come and experience the next generation of sci-fi worthy espresso machines! \n\n\n\nAll this and more\, plus enjoy mingling with members of American (AMCHAM)\, British (BritCham)\, Australian (AustCham)  & German (GTCC) Chambers of Commerce at the SEAC Leadavation Center\, FYI Center's new venue. This sleek\, ultra-chic building is almost a "gadget" in itself\, with its innovative design and high-tech meeting and seminar facilities. Don't miss it!\n\nEntrance fee includes finger foods and free-flow wine and beer.\n\nProceeds from our networking events go to support the American Chamber of Commerce in Thailand Foundation Scholarship Program.
X-ALT-DESC;FMTTYPE=text/html:<p><span style="color:#B22222\;"><strong>ONLINE REGISTRATION IS CLOSED.&nbsp\; WALK-INS WELCOME!!!</strong></span></p>\n\n<p>&nbsp\;</p>\n\n<p>Gadget Night is back!&nbsp\;</p>\n\n<p><br />\nWe are excited to&nbsp\;present the latest edition of our unique networking experience\, where we&#39\;ll be displaying the coolest gadgets and unexpected applications of technology.&nbsp\;<font color="red">Vendors include:&nbsp\;</font><font color="red"><strong>Microsoft</strong></font><font color="red">\,&nbsp\;</font><font color="red"><strong>Seagate</strong></font><font color="red">\,&nbsp\;</font><font color="red"><strong>Minor</strong></font><font color="red">\,&nbsp\;</font><font color="red"><strong>Black &amp\; Decker</strong></font><font color="red">\,&nbsp\;</font><font color="red"><strong>HP</strong></font><font color="red">\,&nbsp\;</font><font color="red"><strong>Coffee Works</strong></font><font color="red">\,&nbsp\;</font><font color="red"><strong>Tank Store</strong></font><font color="red">\, and many more.&nbsp\;</font>Come and witness Virtual Reality headsets\; learn how cutting-edge sensor technology is helping Thai farmers improve their crop yields\; see the latest hi-tech camping and outdoor gear\; marvel at how technology is helping reinvent education\; and come and experience the next generation of sci-fi worthy espresso machines!&nbsp\;<br />\n<br />\nAll this and more\, plus enjoy mingling with members of American (AMCHAM)\, British (BritCham)\, Australian (AustCham)&nbsp\; &amp\; German (GTCC) Chambers of Commerce at the SEAC Leadavation Center\, FYI Center&rsquo\;s new venue. This sleek\, ultra-chic building is almost a &ldquo\;gadget&rdquo\; in itself\, with its innovative design and high-tech meeting and seminar facilities. Don&rsquo\;t miss it!</p>\n\n<p style="box-sizing: content-box\; font-family: OpenSans\, Arial\, Helvetica\, sans-serif\; line-height: inherit\; margin: 1em 0px\; bottom: auto\; clear: none\; color: rgb(68\, 68\, 68)\; content: normal\; direction: inherit\; empty-cells: show\; float: none\; font-variant-numeric: inherit\; font-variant-east-asian: inherit\; font-stretch: inherit\; font-size: 14px\; left: auto\; max-height: none\; max-width: none\; min-height: initial\; min-width: initial\; opacity: 1\; outline-offset: 0px\; overflow: visible\; padding: 0px\; position: static\; resize: none\; right: auto\; table-layout: auto\; text-overflow: clip\; top: auto\; vertical-align: baseline\; visibility: inherit\; word-break: inherit\; overflow-wrap: inherit\; z-index: auto\; background-image: none\; background-position: initial\; background-size: initial\; background-repeat: initial\; background-attachment: initial\; background-origin: initial\; background-clip: initial\; border: none\; border-collapse: separate\; border-radius: 0px\; height: auto\; width: auto\; box-shadow: none\;">Entrance fee includes finger foods and <strong>free-flow wine and beer</strong>.</p>\n\n<p style="box-sizing: content-box\; font-family: OpenSans\, Arial\, Helvetica\, sans-serif\; line-height: inherit\; margin: 1em 0px\; bottom: auto\; clear: none\; color: rgb(68\, 68\, 68)\; content: normal\; direction: inherit\; empty-cells: show\; float: none\; font-variant-numeric: inherit\; font-variant-east-asian: inherit\; font-stretch: inherit\; font-size: 14px\; left: auto\; max-height: none\; max-width: none\; min-height: initial\; min-width: initial\; opacity: 1\; outline-offset: 0px\; overflow: visible\; padding: 0px\; position: static\; resize: none\; right: auto\; table-layout: auto\; text-overflow: clip\; top: auto\; vertical-align: baseline\; visibility: inherit\; word-break: inherit\; overflow-wrap: inherit\; z-index: auto\; background-image: none\; background-position: initial\; background-size: initial\; background-repeat: initial\; background-attachment: initial\; background-origin: initial\; background-clip: initial\; border: none\; border-collapse: separate\; border-radius: 0px\; height: auto\; width: auto\; box-shadow: none\;">Proceeds from our networking events go to support the American Chamber of Commerce in Thailand Foundation Scholarship Program.</p>\n\n<p>&nbsp\;</p>\n\n<p>&nbsp\;</p>\n
LOCATION:SEAC Leadavation Center\, FYI Center\, Rama IV Road MRT Queen Sirikit National Convention Center
UID:e.3314.39
SEQUENCE:3
DTSTAMP:20260424T031454Z
URL:http://www.connect.amchamthailand.com/events/details/gadget-night-seac-leadavation-center-39
END:VEVENT

END:VCALENDAR
