BEGIN:VCALENDAR
VERSION:2.0
PRODID:-//ChamberMaster//Event Calendar 2.0//EN
METHOD:PUBLISH
X-PUBLISHED-TTL:P3D
REFRESH-INTERVAL:P3D
CALSCALE:GREGORIAN
BEGIN:VEVENT
DTSTART:20200318T060000Z
DTEND:20200318T093000Z
X-MICROSOFT-CDO-ALLDAYEVENT:FALSE
SUMMARY:Gallothai Tour (Postponed)
DESCRIPTION:This event has been postponed as a precautionary measure to support public health efforts to minimize the spread of COVID-19. When the rescheduled date is confirmed\, AMCHAM will update that information here.\n\n\n\nAMCHAM is pleased to invite you to join our visit to the chocolate factory of Gallothai in Bangpakong District\, Chacheongsao Province. \n\nGallothai was founded in 1993\, over the past 20 years\, Gallothai has grown to become a major player in the Thai chocolate scene\, by supplying major hotels and restaurants with its high end chocolates and by opening Duc de Praslin chocolateries in Bangkok\, Phuket\, Chiang Mai and Pattaya. \n\nGallothai products are used by leading hotels\, restaurants\, quick service restaurants as well as airlines\, bakeries and retailers. \n\nAcquiring experience over the years\, Gallothai tailored its production to the needs of Thai customers and consumers. \n\nAgenda\n\n1:00 pm          Depart from AMCHAM Office by van\n\n2:00 pm          Arrive at Gallothai Factory\n\n2:10 pm          Welcome speech and company presentation\n\n2:40 pm          Chocolate story and tasting\n\n3:25 pm          Factory Tour\n\n4:40 pm          Souvenirs with thank you speech and group photo\n\n4:50 pm          End and depart for AMCHAM office by van\n\nDress code: Business casual\, no open-toe or open-heel footwear\, no high heels. Plastic shoe covers will be provided before entering the production area.
X-ALT-DESC;FMTTYPE=text/html:<p><em style="box-sizing: border-box\; font-family: &quot\;open sans&quot\;\, sans-serif\; color: rgb(0\, 0\, 128)\; font-size: 14px\; font-weight: 700\;">This event has been postponed as a precautionary measure to support public health efforts to minimize the spread of COVID-19. When the rescheduled date is confirmed\, AMCHAM will update that information here.</em><br />\n<br />\nAMCHAM is pleased to invite you to join our&nbsp\;visit to the chocolate factory of Gallothai&nbsp\;in Bangpakong District\, Chacheongsao Province.&nbsp\;<o:p></o:p></p>\n\n<p>Gallothai was founded in 1993\, over the past&nbsp\;20 years\, Gallothai has grown&nbsp\;to become a major player in the Thai chocolate scene\, by supplying major hotels and restaurants with its high end chocolates and&nbsp\;by opening Duc de Praslin chocolateries in Bangkok\, Phuket\, Chiang Mai and Pattaya.&nbsp\;<o:p></o:p></p>\n\n<p>Gallothai products are used by leading hotels\, restaurants\, quick service restaurants as well as airlines\, bakeries and retailers.&nbsp\;<o:p></o:p></p>\n\n<p>Acquiring experience over the years\, Gallothai tailored its production to the needs of Thai customers and consumers.&nbsp\;<o:p></o:p></p>\n\n<p><strong>Agenda</strong><o:p></o:p></p>\n\n<p>1:00 pm&nbsp\;&nbsp\;&nbsp\;&nbsp\;&nbsp\;&nbsp\;&nbsp\;&nbsp\;&nbsp\; Depart from AMCHAM Office by van<o:p></o:p></p>\n\n<p>2:00 pm&nbsp\;&nbsp\;&nbsp\;&nbsp\;&nbsp\;&nbsp\;&nbsp\; &nbsp\;&nbsp\;Arrive at Gallothai Factory<o:p></o:p></p>\n\n<p>2:10 pm&nbsp\;&nbsp\;&nbsp\;&nbsp\;&nbsp\;&nbsp\;&nbsp\;&nbsp\;&nbsp\; Welcome speech and company presentation<o:p></o:p></p>\n\n<p>2:40 pm&nbsp\;&nbsp\;&nbsp\;&nbsp\;&nbsp\;&nbsp\;&nbsp\;&nbsp\;&nbsp\; Chocolate story and tasting<o:p></o:p></p>\n\n<p>3:25 pm&nbsp\;&nbsp\;&nbsp\;&nbsp\;&nbsp\;&nbsp\;&nbsp\;&nbsp\;&nbsp\; Factory Tour<o:p></o:p></p>\n\n<p>4:40 pm&nbsp\;&nbsp\;&nbsp\;&nbsp\;&nbsp\;&nbsp\;&nbsp\;&nbsp\;&nbsp\; Souvenirs with thank you speech and group photo<o:p></o:p></p>\n\n<p>4:50 pm&nbsp\;&nbsp\;&nbsp\;&nbsp\;&nbsp\;&nbsp\;&nbsp\;&nbsp\;&nbsp\; End and depart for AMCHAM office by van<o:p></o:p></p>\n\n<p><strong>Dress code:</strong>&nbsp\;Business casual\, no open-toe or open-heel footwear\, no high heels. Plastic shoe covers will be provided&nbsp\;before entering the production area.<o:p></o:p></p>\n
LOCATION:
UID:e.3314.1547
SEQUENCE:3
DTSTAMP:20260423T001158Z
URL:http://www.connect.amchamthailand.com/events/details/gallothai-tour-postponed-1547
END:VEVENT

END:VCALENDAR
